BEGIN:VCALENDAR
VERSION:2.0
PRODID:-//Montgomery County Green Bank - ECPv6.15.14//NONSGML v1.0//EN
CALSCALE:GREGORIAN
METHOD:PUBLISH
X-ORIGINAL-URL:https://mcgreenbank.org
X-WR-CALDESC:Events for Montgomery County Green Bank
REFRESH-INTERVAL;VALUE=DURATION:PT1H
X-Robots-Tag:noindex
X-PUBLISHED-TTL:PT1H
BEGIN:VTIMEZONE
TZID:America/New_York
BEGIN:DAYLIGHT
TZOFFSETFROM:-0500
TZOFFSETTO:-0400
TZNAME:EDT
DTSTART:20240310T070000
END:DAYLIGHT
BEGIN:STANDARD
TZOFFSETFROM:-0400
TZOFFSETTO:-0500
TZNAME:EST
DTSTART:20241103T060000
END:STANDARD
BEGIN:DAYLIGHT
TZOFFSETFROM:-0500
TZOFFSETTO:-0400
TZNAME:EDT
DTSTART:20250309T070000
END:DAYLIGHT
BEGIN:STANDARD
TZOFFSETFROM:-0400
TZOFFSETTO:-0500
TZNAME:EST
DTSTART:20251102T060000
END:STANDARD
BEGIN:DAYLIGHT
TZOFFSETFROM:-0500
TZOFFSETTO:-0400
TZNAME:EDT
DTSTART:20260308T070000
END:DAYLIGHT
BEGIN:STANDARD
TZOFFSETFROM:-0400
TZOFFSETTO:-0500
TZNAME:EST
DTSTART:20261101T060000
END:STANDARD
END:VTIMEZONE
BEGIN:VEVENT
DTSTART;TZID=America/New_York:20250509T080000
DTEND;TZID=America/New_York:20250509T153000
DTSTAMP:20260421T014352
CREATED:20250225T194031Z
LAST-MODIFIED:20250305T215323Z
UID:13460-1746777600-1746804600@mcgreenbank.org
SUMMARY:34th Annual Affordable Housing Summit
DESCRIPTION:Join us for our 34th annual Affordable Housing Summit. “The Future of Affordable Housing: Weathering the Storm”. \nLast year’s summit attracted over 600 concerned professionals and citizens\, including community and business leaders\, housing experts\, and activists and this year’s summit promises to be equally enriching. Through diverse panels and open discussion\, we will distill the best ways to fight for continued improvements in access to affordable housing for low-and moderate-income households. \nAlongside our panel discussions\, we also feature initiatives that directly support homebuyers and promote housing accessibility. Our “Breaking the Barrier to Homeownership” contest allows first-time homebuyers to receive closing cost assistance for their first home purchase. Since 2001\, AHCMC and our sponsors have provided over $400\,000 in support to more than 40 moderate-income individuals and families through this grant program. \nTo further enrich our conference activities each year\, we have been fortunate to host a variety of leaders from HUD and local government\, who have played a key role in shaping our discussions. In years past\, we have had the distinct privilege of hosting former HUD Secretaries and officials who have shared their insights on the housing crisis and its impact on our community. Their expertise has helped drive important conversations and deepen our understanding of the challenges and opportunities in affordable housing. \n 
URL:https://mcgreenbank.org/event/34th-annual-affordable-housing-summit/
LOCATION:North Bethesda Marriott & Conference Center\, 5928 Executive Boulevard\, North Bethesda\, MD 20852\, MD\, 20852\, United States
CATEGORIES:Event,Summit
ATTACH;FMTTYPE=image/png:https://mcgreenbank.org/wp-content/uploads/2025/02/AFFORDABLE-HOUSING.png
END:VEVENT
END:VCALENDAR