BEGIN:VCALENDAR
VERSION:2.0
PRODID:-//Montgomery County Green Bank - ECPv6.15.14//NONSGML v1.0//EN
CALSCALE:GREGORIAN
METHOD:PUBLISH
X-ORIGINAL-URL:https://mcgreenbank.org
X-WR-CALDESC:Events for Montgomery County Green Bank
REFRESH-INTERVAL;VALUE=DURATION:PT1H
X-Robots-Tag:noindex
X-PUBLISHED-TTL:PT1H
BEGIN:VTIMEZONE
TZID:America/New_York
BEGIN:DAYLIGHT
TZOFFSETFROM:-0500
TZOFFSETTO:-0400
TZNAME:EDT
DTSTART:20250309T070000
END:DAYLIGHT
BEGIN:STANDARD
TZOFFSETFROM:-0400
TZOFFSETTO:-0500
TZNAME:EST
DTSTART:20251102T060000
END:STANDARD
BEGIN:DAYLIGHT
TZOFFSETFROM:-0500
TZOFFSETTO:-0400
TZNAME:EDT
DTSTART:20260308T070000
END:DAYLIGHT
BEGIN:STANDARD
TZOFFSETFROM:-0400
TZOFFSETTO:-0500
TZNAME:EST
DTSTART:20261101T060000
END:STANDARD
BEGIN:DAYLIGHT
TZOFFSETFROM:-0500
TZOFFSETTO:-0400
TZNAME:EDT
DTSTART:20270314T070000
END:DAYLIGHT
BEGIN:STANDARD
TZOFFSETFROM:-0400
TZOFFSETTO:-0500
TZNAME:EST
DTSTART:20271107T060000
END:STANDARD
END:VTIMEZONE
BEGIN:VEVENT
DTSTART;TZID=America/New_York:20260424T140000
DTEND;TZID=America/New_York:20260424T150000
DTSTAMP:20260420T225407
CREATED:20260420T194709Z
LAST-MODIFIED:20260420T201026Z
UID:15103-1777039200-1777042800@mcgreenbank.org
SUMMARY:Habitat for Humanity Metro Maryland – Groundbreaking Celebration
DESCRIPTION:Habitat for Humanity Metro Maryland invites the community to a Groundbreaking Celebration for its newest affordable homeownership project on Fleet Street in Rockville. \nThe project will feature a duplex with universal design features on the first level\, built on a parcel of land donated by Montgomery County. \nThis is an outdoor\, rain‑or‑shine event. A tent will be available in case of inclement weather.
URL:https://mcgreenbank.org/event/habitat-for-humanity-metro-maryland-groundbreaking-celebration/
LOCATION:107 Fleet Street\, Rockville\, MD\, 20850\, United States
END:VEVENT
END:VCALENDAR