BEGIN:VCALENDAR
VERSION:2.0
PRODID:-//Montgomery County Green Bank - ECPv6.15.20//NONSGML v1.0//EN
CALSCALE:GREGORIAN
METHOD:PUBLISH
X-ORIGINAL-URL:https://mcgreenbank.org
X-WR-CALDESC:Events for Montgomery County Green Bank
REFRESH-INTERVAL;VALUE=DURATION:PT1H
X-Robots-Tag:noindex
X-PUBLISHED-TTL:PT1H
BEGIN:VTIMEZONE
TZID:America/New_York
BEGIN:DAYLIGHT
TZOFFSETFROM:-0500
TZOFFSETTO:-0400
TZNAME:EDT
DTSTART:20240310T070000
END:DAYLIGHT
BEGIN:STANDARD
TZOFFSETFROM:-0400
TZOFFSETTO:-0500
TZNAME:EST
DTSTART:20241103T060000
END:STANDARD
BEGIN:DAYLIGHT
TZOFFSETFROM:-0500
TZOFFSETTO:-0400
TZNAME:EDT
DTSTART:20250309T070000
END:DAYLIGHT
BEGIN:STANDARD
TZOFFSETFROM:-0400
TZOFFSETTO:-0500
TZNAME:EST
DTSTART:20251102T060000
END:STANDARD
BEGIN:DAYLIGHT
TZOFFSETFROM:-0500
TZOFFSETTO:-0400
TZNAME:EDT
DTSTART:20260308T070000
END:DAYLIGHT
BEGIN:STANDARD
TZOFFSETFROM:-0400
TZOFFSETTO:-0500
TZNAME:EST
DTSTART:20261101T060000
END:STANDARD
END:VTIMEZONE
BEGIN:VEVENT
DTSTART;TZID=America/New_York:20250910T080000
DTEND;TZID=America/New_York:20250913T170000
DTSTAMP:20260422T181316
CREATED:20250903T201251Z
LAST-MODIFIED:20250903T201344Z
UID:14334-1757491200-1757782800@mcgreenbank.org
SUMMARY:11th Annual Environmental Justice and Health Disparities Symposium
DESCRIPTION:The 11th Annual Environmental Justice and Health Disparities Symposium is a landmark event that brings together community leaders\, experts\, and activists dedicated to advancing environmental justice and addressing health disparities. Now operating as a grassroots nonprofit\, CEEJH INC  is proud to present this transformative symposium – an immersive\, hybrid experience designed to spark dialogue\, share innovative solutions\, and INpower communities in the face of environmental challenges. This year’s event will take place virtually on Wednesday\, September 10\, 2025\, and in-person (hybrid) from Thursday\, September 11th to Saturday\, September 13th in Baltimore\, MD. \n2025 Theme: The People’s Agenda: Resistance\, Resilience\, and RESToration\nThis year’s theme captures our commitment to inspiring collective action and fostering community strength. Our agenda is built on the pillars of resistance against systemic inequities\, resilience in the face of environmental and health challenges\, and the restoration of community well-being and environmental integrity.
URL:https://mcgreenbank.org/event/11th-annual-environmental-justice-and-health-disparities-symposium/
LOCATION:Sheraton Inner Harbor Hotel – Baltimore\, 300 S Charles St\,\, Baltimore\, MD\, 21201\, United States
CATEGORIES:Conference,Networking
ATTACH;FMTTYPE=image/png:https://mcgreenbank.org/wp-content/uploads/2025/09/ceeejh-scaled.png
END:VEVENT
END:VCALENDAR