BEGIN:VCALENDAR
VERSION:2.0
PRODID:-//Montgomery County Green Bank - ECPv6.15.20//NONSGML v1.0//EN
CALSCALE:GREGORIAN
METHOD:PUBLISH
X-ORIGINAL-URL:https://mcgreenbank.org
X-WR-CALDESC:Events for Montgomery County Green Bank
REFRESH-INTERVAL;VALUE=DURATION:PT1H
X-Robots-Tag:noindex
X-PUBLISHED-TTL:PT1H
BEGIN:VTIMEZONE
TZID:America/New_York
BEGIN:DAYLIGHT
TZOFFSETFROM:-0500
TZOFFSETTO:-0400
TZNAME:EDT
DTSTART:20240310T070000
END:DAYLIGHT
BEGIN:STANDARD
TZOFFSETFROM:-0400
TZOFFSETTO:-0500
TZNAME:EST
DTSTART:20241103T060000
END:STANDARD
BEGIN:DAYLIGHT
TZOFFSETFROM:-0500
TZOFFSETTO:-0400
TZNAME:EDT
DTSTART:20250309T070000
END:DAYLIGHT
BEGIN:STANDARD
TZOFFSETFROM:-0400
TZOFFSETTO:-0500
TZNAME:EST
DTSTART:20251102T060000
END:STANDARD
BEGIN:DAYLIGHT
TZOFFSETFROM:-0500
TZOFFSETTO:-0400
TZNAME:EDT
DTSTART:20260308T070000
END:DAYLIGHT
BEGIN:STANDARD
TZOFFSETFROM:-0400
TZOFFSETTO:-0500
TZNAME:EST
DTSTART:20261101T060000
END:STANDARD
END:VTIMEZONE
BEGIN:VEVENT
DTSTART;TZID=America/New_York:20251120T110000
DTEND;TZID=America/New_York:20251120T170000
DTSTAMP:20260423T093619
CREATED:20251028T185550Z
LAST-MODIFIED:20251028T205242Z
UID:14517-1763636400-1763658000@mcgreenbank.org
SUMMARY:Money Matters: Financing the Future of Climate
DESCRIPTION:Lewis Center Staff Host: Shraeya Madhu\, Manager\, Decarbonization \nSpeakers: Laura Mondragon\, Senior Director of Climate Resilience and Adaptation at Montgomery County Green Bank & Shalini Vajhala\, Founder of PRECollective \nDescription: Access to capital is one of the biggest barriers to advancing local climate action. Climate finance\, which can include innovative lending models\, public-private partnerships\, and community investment\, has the power to unlock opportunities to decarbonize buildings\, support small businesses\, and make the energy transition more equitable. In this conversation\, hear from the Montgomery County Green Bank\, one of the nation’s first local green banks\, on how they pioneer financing solutions that accelerate clean energy and energy efficiency projects across Maryland. Laura and Shalini will explore how green banks are bridging the gap between private capital and community needs\, fostering a more resilient economy and community.
URL:https://mcgreenbank.org/event/money-matters-financing-the-future-of-climate/
LOCATION:Webinar
CATEGORIES:Webinar
END:VEVENT
END:VCALENDAR