BEGIN:VCALENDAR
VERSION:2.0
PRODID:-//Montgomery County Green Bank - ECPv6.15.20//NONSGML v1.0//EN
CALSCALE:GREGORIAN
METHOD:PUBLISH
X-ORIGINAL-URL:https://mcgreenbank.org
X-WR-CALDESC:Events for Montgomery County Green Bank
REFRESH-INTERVAL;VALUE=DURATION:PT1H
X-Robots-Tag:noindex
X-PUBLISHED-TTL:PT1H
BEGIN:VTIMEZONE
TZID:America/New_York
BEGIN:DAYLIGHT
TZOFFSETFROM:-0500
TZOFFSETTO:-0400
TZNAME:EDT
DTSTART:20230312T070000
END:DAYLIGHT
BEGIN:STANDARD
TZOFFSETFROM:-0400
TZOFFSETTO:-0500
TZNAME:EST
DTSTART:20231105T060000
END:STANDARD
BEGIN:DAYLIGHT
TZOFFSETFROM:-0500
TZOFFSETTO:-0400
TZNAME:EDT
DTSTART:20240310T070000
END:DAYLIGHT
BEGIN:STANDARD
TZOFFSETFROM:-0400
TZOFFSETTO:-0500
TZNAME:EST
DTSTART:20241103T060000
END:STANDARD
BEGIN:DAYLIGHT
TZOFFSETFROM:-0500
TZOFFSETTO:-0400
TZNAME:EDT
DTSTART:20250309T070000
END:DAYLIGHT
BEGIN:STANDARD
TZOFFSETFROM:-0400
TZOFFSETTO:-0500
TZNAME:EST
DTSTART:20251102T060000
END:STANDARD
END:VTIMEZONE
BEGIN:VEVENT
DTSTART;TZID=America/New_York:20240530T190000
DTEND;TZID=America/New_York:20240530T200000
DTSTAMP:20260423T044239
CREATED:20240514T210146Z
LAST-MODIFIED:20240514T210342Z
UID:12547-1717095600-1717099200@mcgreenbank.org
SUMMARY:Catholic Home Solar Workshop
DESCRIPTION:We invite you to join us and Interfaith Power & Light (D.C.\, MD.\, and NoVA)\, in partnership with several DMV area Catholic parishes\, to attend a workshop to learn how Catholic homeowners have an opportunity to embrace the blessing of what St. Francis called “Brother Sun” – by putting up solar panels at home\, together with neighbors. \nBy attending this workshop\, you will learn how you can start the process of joining purchasing groups through two nonprofit organizations: Solar United Neighbors (in Northern Virginia\, D.C.\, and Montgomery\, Frederick\, and Prince George’s counties) and Civic Works (in Baltimore\, Harford\, Howard\, and Anne Arundel Counties). \nCatholic Home Solar Workshop\nThursday\, May 30th at 7 p.m. (ET) \nREGISTER \nDuring the workshop\, you will learn how Pope Francis calls us to replace fossil fuels with renewable energy “without delay\,” hear a testimonial about how meaningful it is to go solar at home\, and receive information from both Solar United Neighbors and Civic Works. Attendees will also have the opportunity to ask questions about the process\, and to sign up to go solar! \nFeel free to share this bulletin insert with your community and this Facebook Event page! \n 
URL:https://mcgreenbank.org/event/catholic-home-solar-workshop/
LOCATION:MD
CATEGORIES:Webinar
END:VEVENT
END:VCALENDAR