BEGIN:VCALENDAR
VERSION:2.0
PRODID:-//Montgomery County Green Bank - ECPv6.15.14//NONSGML v1.0//EN
CALSCALE:GREGORIAN
METHOD:PUBLISH
X-ORIGINAL-URL:https://mcgreenbank.org
X-WR-CALDESC:Events for Montgomery County Green Bank
REFRESH-INTERVAL;VALUE=DURATION:PT1H
X-Robots-Tag:noindex
X-PUBLISHED-TTL:PT1H
BEGIN:VTIMEZONE
TZID:America/New_York
BEGIN:DAYLIGHT
TZOFFSETFROM:-0500
TZOFFSETTO:-0400
TZNAME:EDT
DTSTART:20230312T070000
END:DAYLIGHT
BEGIN:STANDARD
TZOFFSETFROM:-0400
TZOFFSETTO:-0500
TZNAME:EST
DTSTART:20231105T060000
END:STANDARD
BEGIN:DAYLIGHT
TZOFFSETFROM:-0500
TZOFFSETTO:-0400
TZNAME:EDT
DTSTART:20240310T070000
END:DAYLIGHT
BEGIN:STANDARD
TZOFFSETFROM:-0400
TZOFFSETTO:-0500
TZNAME:EST
DTSTART:20241103T060000
END:STANDARD
BEGIN:DAYLIGHT
TZOFFSETFROM:-0500
TZOFFSETTO:-0400
TZNAME:EDT
DTSTART:20250309T070000
END:DAYLIGHT
BEGIN:STANDARD
TZOFFSETFROM:-0400
TZOFFSETTO:-0500
TZNAME:EST
DTSTART:20251102T060000
END:STANDARD
END:VTIMEZONE
BEGIN:VEVENT
DTSTART;TZID=America/New_York:20240229T080000
DTEND;TZID=America/New_York:20240229T130000
DTSTAMP:20260420T213059
CREATED:20231106T232201Z
LAST-MODIFIED:20231106T233820Z
UID:11555-1709193600-1709211600@mcgreenbank.org
SUMMARY:Decarb DC 2024
DESCRIPTION:Decarb DC 2024 will be hosted by Companies for NetZero\, a company that supports all organizations on their journey to decarbonizing real estate\, infrastructure and supply chains.\n\nThemes for the Summit will be: \n\nBuilding Energy Performance Standards (BEPS) and updates on the Inflation Reduction Act\n\n\n\n\n\n\n\n\n\nUnderstand tax codes.\n\n\n\n\n\n\n\n\nNew Innovations for Decarbonizing Assets\n\n\n\n\n\n\n\n\n\nFunded Solutions for Decarbonizing
URL:https://mcgreenbank.org/event/decarb-dc-2024/
LOCATION:The Towers Crescent Conference Center\, 1850 Towers Cres Plaza\, Tysons\, VA\, 22182\, United States
CATEGORIES:Conference,Event
ORGANIZER;CN="Companies for NetZero":MAILTO:info@companiesfornetzero.com
END:VEVENT
END:VCALENDAR