BEGIN:VCALENDAR
VERSION:2.0
PRODID:-//Montgomery County Green Bank - ECPv6.15.14//NONSGML v1.0//EN
CALSCALE:GREGORIAN
METHOD:PUBLISH
X-ORIGINAL-URL:https://mcgreenbank.org
X-WR-CALDESC:Events for Montgomery County Green Bank
REFRESH-INTERVAL;VALUE=DURATION:PT1H
X-Robots-Tag:noindex
X-PUBLISHED-TTL:PT1H
BEGIN:VTIMEZONE
TZID:America/New_York
BEGIN:DAYLIGHT
TZOFFSETFROM:-0500
TZOFFSETTO:-0400
TZNAME:EDT
DTSTART:20250309T070000
END:DAYLIGHT
BEGIN:STANDARD
TZOFFSETFROM:-0400
TZOFFSETTO:-0500
TZNAME:EST
DTSTART:20251102T060000
END:STANDARD
BEGIN:DAYLIGHT
TZOFFSETFROM:-0500
TZOFFSETTO:-0400
TZNAME:EDT
DTSTART:20260308T070000
END:DAYLIGHT
BEGIN:STANDARD
TZOFFSETFROM:-0400
TZOFFSETTO:-0500
TZNAME:EST
DTSTART:20261101T060000
END:STANDARD
BEGIN:DAYLIGHT
TZOFFSETFROM:-0500
TZOFFSETTO:-0400
TZNAME:EDT
DTSTART:20270314T070000
END:DAYLIGHT
BEGIN:STANDARD
TZOFFSETFROM:-0400
TZOFFSETTO:-0500
TZNAME:EST
DTSTART:20271107T060000
END:STANDARD
END:VTIMEZONE
BEGIN:VEVENT
DTSTART;TZID=America/New_York:20260303T080000
DTEND;TZID=America/New_York:20260304T170000
DTSTAMP:20260420T045300
CREATED:20260210T172743Z
LAST-MODIFIED:20260210T172757Z
UID:14773-1772524800-1772643600@mcgreenbank.org
SUMMARY:The Milken Institute: 2026 Future of Finance seminar
DESCRIPTION:Future of Finance 2026 brings together investors\, policymakers\, and innovators to explore how financial systems can better support economic mobility and long-term resilience. The event focuses on real-world strategies shaping the future of finance in the United States and globally. The gathering showcases expertise from across our programmatic workstreams and highlights partners who are building best practices and inspiring outcomes-based investments in the United States and globally. \nThis year’s event will explore critical themes shaping the future of finance\, including financial technology and innovation\, lifetime financial security\, community resilience\, pathways to expanding access to capital\, and key trends in geo-economics. In addition to thought- provoking discussions\, the forum provides a unique platform for cross-sector networking\, peer-to-peer collaboration\, and government innovation.
URL:https://mcgreenbank.org/event/the-milken-institute-2026-future-of-finance-seminar/
LOCATION:Milken Institute\, 730 15th St NW\, Washington DC\, DC\, 20005\, United States
CATEGORIES:Conference,Summit
ATTACH;FMTTYPE=image/png:https://mcgreenbank.org/wp-content/uploads/2026/02/milken-institute-scaled.png
END:VEVENT
BEGIN:VEVENT
DTSTART;TZID=America/New_York:20260311T170000
DTEND;TZID=America/New_York:20260311T190000
DTSTAMP:20260420T045300
CREATED:20260210T164352Z
LAST-MODIFIED:20260210T164625Z
UID:14769-1773248400-1773255600@mcgreenbank.org
SUMMARY:Clean Energy & Community Resources Day
DESCRIPTION:Family-Friendly\, Free\, and Open to the Community!\n\n\n\nJoin Montgomery County Green Bank and Grid Alternatives in collaboration with Climate First Bank\, Montgomery County Department of Environmental Protection and One Montgomery Green for a Clean Energy & Community Resources Day. This is a free\, family-friendly event designed to help Montgomery County residents learn how to access solar energy\, reduce utility costs\, and connect with trusted clean energy resources. \nThis community-focused event will explain solar options in simple\, easy-to-understand terms—whether you’re a homeowner\, renter\, or just exploring your options. You’ll hear directly from local organizations offering no-cost solar for income-qualified households\, affordable financing options\, and community solar programs. \nWhat You’ll Learn: \n\nHow solar energy works\nHow income-qualified households may access no-cost solar installations\nFinancing and community solar options for moderate-income households and renters\nHow to get started and sign up on-site\n\nWhat to Expect: \n\nShort presentations from local clean energy experts\nA clear walkthrough of solar pathways based on household eligibility\nOpen Q&A and one-on-one conversations\nA resource fair with flyers and sign-up assistance\nLight refreshments\n\nWho Should Attend: \n\nMontgomery County residents\nHomeowners and renters\nFamilies and community members interested in lowering energy costs\n\nKid-Friendly Event: \nChildren are welcome. This is a relaxed\, welcoming environment designed for the whole family. \nParking Garage Procedures for Guests: \nStep 1: At the call box located next to the booth\, please select “directory.” \nStep 2: Choose suite number 400. \nStep 3: You will be buzzed into the garage and will be given a unique number to access the elevator lobby doors on P1 or P2. The special code 21212 will only work for P1 and P2. \nFrom the Rockville Metro station\, MCGB office is 155 ft\, turn left and walk past Capital One Bank. Enter the white building\, use the keypad Directory\, select Montgomery County Green Bank\, and follow the voice prompts.
URL:https://mcgreenbank.org/event/clean-energy-community-resources-day/
LOCATION:MCGB Office\, 21 Church Street\, Rockville\, MD\, 20850\, United States
CATEGORIES:Event,Networking
ATTACH;FMTTYPE=image/png:https://mcgreenbank.org/wp-content/uploads/2026/02/Clean-Energy-Community-Resources-Eventbrite-FINAL-scaled.png
END:VEVENT
BEGIN:VEVENT
DTSTART;TZID=America/New_York:20260318T130000
DTEND;TZID=America/New_York:20260318T143000
DTSTAMP:20260420T045300
CREATED:20260305T170833Z
LAST-MODIFIED:20260305T170909Z
UID:14794-1773838800-1773844200@mcgreenbank.org
SUMMARY:Green Banking Partnerships: Unlocking Clean Energy Finance Through Collaboration
DESCRIPTION:Green Banks are mission-driven financial institutions that provide capital to support clean-energy and climate-resilient projects. Join us on Wednesday\, March 18 at 1pm EST for a discussion of Green Banking Partnerships\, featuring Rokas Beresniovas (Montgomery County Green Bank)\, Amir Kirkwood (Justice Climate Fund) and Dan Adler (US Green Bank 50). \nHosted by Climate First Bank’s Chief Sustainability Officer\, Chris Castro\, this discussion will highlight the importance of partnerships between Green Bank\, Regional Banks\, #Philanthropy\, and more. Discover the missions behind these organizations and learn about the actions being taken to address gaps in clean energy finance and climate solutions. \n🌍 Register free here — and share this opportunity with your network! https://lnkd.in/eu7-cqRh
URL:https://mcgreenbank.org/event/green-banking-partnerships-unlocking-clean-energy-finance-through-collaboration/
LOCATION:MD
CATEGORIES:Panel Discussion,Webinar
ATTACH;FMTTYPE=image/jpeg:https://mcgreenbank.org/wp-content/uploads/2026/03/IMG_3475.jpeg
END:VEVENT
BEGIN:VEVENT
DTSTART;TZID=America/New_York:20260319T090000
DTEND;TZID=America/New_York:20260319T170000
DTSTAMP:20260420T045300
CREATED:20251212T202726Z
LAST-MODIFIED:20251212T202759Z
UID:14588-1773910800-1773939600@mcgreenbank.org
SUMMARY:The Maryland Climate Tech+ 2026
DESCRIPTION:The Number One Determinant of Human Health Is Our Home. \nOur Climate Justice Theme is: Housing as Healthcare: The Case For Climate Resilient Healthy Homes – The Impacts of Radon Gas\, Asthma Triggers\, Wildfires and Sea-Level Rise. \nWith attendees ranging from builders\, developers\, commercial and residential property owners\, managers\, corporate tenants\, occupiers\, sustainability and environmental justice leaders to government officials\, planners and concerned community members\, the annual Maryland Climate Tech+ virtual experience offers a rich tapestry of insights and experiences to catalyze investment in risk reduction strategies\, preserve and protect real estate value\, and create healthy\, thriving communities. \n\nAs the world rallies to address the challenges of climate change\, sea level rise and wildfires\, Maryland Climate Tech+ 2026 offers a platform for gaining valuable knowledge\, creating meaningful connections\, and catalyzing innovative solutions. \nParticipants will share and learn cutting edge\, innovative solutions that promote proactive change in the face of a rapidly changing climate while engaging with global thought leaders and exploring innovative buildings and developments that showcase resilience\, and occupant health & wellness in practice. \nMaryland Climate Tech+ 2026 will be held virtually on March 19th starting at 9:00am. \nHowever\, we’ve added two in-person highlights to the event. The bus tours below are $125 and lunch is provided. On March 19th the coach bus will depart the Owings Mills Metro Center at 12p to Cambridge\, MD for the tour and return to Owings Mills at 7p. Free parking is available at the Metro Center.
URL:https://mcgreenbank.org/event/the-maryland-climate-tech-2026/
LOCATION:Zoom
CATEGORIES:Event,Webinar
END:VEVENT
BEGIN:VEVENT
DTSTART;TZID=America/New_York:20260326T080000
DTEND;TZID=America/New_York:20260328T170000
DTSTAMP:20260420T045300
CREATED:20260320T192552Z
LAST-MODIFIED:20260320T192552Z
UID:14858-1774512000-1774717200@mcgreenbank.org
SUMMARY:Naturally Latinos
DESCRIPTION:With our environment and our communities under renewed stress\, this opportunity to connect\, collaborate\, and motivate is more important than ever before! \nThis conference is a space for us to come together as a community that embraces the importance of our connection to nature and to one another.  When we gather together\, we recharge\, we inspire each other\, we learn from our successes and challenges\, and we come out with a renewed strength to keep doing the work that we do. \nThis year’s theme\, “Fortaleciendo comunidades y ecosistemas\,” celebrates the work that many are doing to benefit our communities and bring nature back to urban spaces. Urban ecosystems and our Latino community are under unprecedented stress. Finding opportunities to collaborate and create partnerships is crucial right now. That’s why your participation is so important to make this conference a success. \nScheduled speakers include Dr. Gabriela D. Lemus of Maryland Latinos Unidos; Environmentalist and Educator Isaias Hernandez; Dr. Juan Declet-Barreto of the Union of Concerned Scientists; Author and Ecopsychologist Lorena Saavedra Smith; and Environmental Champion and Storyteller Orietta Estrada\, among many other inspiring environmental professionals. \nTopics will include community engagement and empowerment\, environmental justice\, green careers\, youth\, arts\, faith\, and much\, much more. To amplify our support to communities this year\, we are happy to host a small market! Local small businesses have been invited to offer products made with sustainable materials. \nWe know you’ll find this gathering as meaningful as we do\, and your presence will help make it even more powerful.
URL:https://mcgreenbank.org/event/naturally-latinos/
LOCATION:Silver Spring Civic Center\, 1 Veteran's Pl\, Silver Spring\, MD\, 20910\, United States
CATEGORIES:Conference
END:VEVENT
BEGIN:VEVENT
DTSTART;TZID=America/New_York:20260327T080000
DTEND;TZID=America/New_York:20260327T130000
DTSTAMP:20260420T045300
CREATED:20260320T194243Z
LAST-MODIFIED:20260320T194351Z
UID:14861-1774598400-1774616400@mcgreenbank.org
SUMMARY:2026 Women’s History Month Celebration
DESCRIPTION:Join us next Friday for our 4th Annual Women’s History Month Celebration\, a morning dedicated to honoring women’s achievements\, amplifying our voices\, and inspiring collective action. Our chapter will be attending and hosting an information table—stop by and connect with us.\n2026 Theme: Women Shaping a Sustainable Future\nThis year\, we celebrate the powerful role women play in advancing environmental justice\, sustainability\, and innovative policy solutions. Together\, we’ll explore how women are leading the way toward a more equitable and sustainable world.\nKeynote Speakers\nOur keynote speakers and special guests will be announced on Monday—stay tuned for an exciting lineup of leaders and changemakers.\nRegistration\nSeats are filling quickly. Don’t miss your chance to be part of this energizing and empowering event.\nRegister today and join us in celebrating Women’s History Month.
URL:https://mcgreenbank.org/event/2026-womens-history-month-celebration/
LOCATION:Blackrock Center for the Arts\, 12901 Town Commons Dr\, Germantown\, MD\, 20874\, United States
CATEGORIES:Conference,Networking
END:VEVENT
END:VCALENDAR