BEGIN:VCALENDAR
VERSION:2.0
PRODID:-//Montgomery County Green Bank - ECPv6.15.20//NONSGML v1.0//EN
CALSCALE:GREGORIAN
METHOD:PUBLISH
X-ORIGINAL-URL:https://mcgreenbank.org
X-WR-CALDESC:Events for Montgomery County Green Bank
REFRESH-INTERVAL;VALUE=DURATION:PT1H
X-Robots-Tag:noindex
X-PUBLISHED-TTL:PT1H
BEGIN:VTIMEZONE
TZID:America/New_York
BEGIN:DAYLIGHT
TZOFFSETFROM:-0500
TZOFFSETTO:-0400
TZNAME:EDT
DTSTART:20230312T070000
END:DAYLIGHT
BEGIN:STANDARD
TZOFFSETFROM:-0400
TZOFFSETTO:-0500
TZNAME:EST
DTSTART:20231105T060000
END:STANDARD
BEGIN:DAYLIGHT
TZOFFSETFROM:-0500
TZOFFSETTO:-0400
TZNAME:EDT
DTSTART:20240310T070000
END:DAYLIGHT
BEGIN:STANDARD
TZOFFSETFROM:-0400
TZOFFSETTO:-0500
TZNAME:EST
DTSTART:20241103T060000
END:STANDARD
BEGIN:DAYLIGHT
TZOFFSETFROM:-0500
TZOFFSETTO:-0400
TZNAME:EDT
DTSTART:20250309T070000
END:DAYLIGHT
BEGIN:STANDARD
TZOFFSETFROM:-0400
TZOFFSETTO:-0500
TZNAME:EST
DTSTART:20251102T060000
END:STANDARD
END:VTIMEZONE
BEGIN:VEVENT
DTSTART;TZID=America/New_York:20240202T080000
DTEND;TZID=America/New_York:20240203T150000
DTSTAMP:20260421T203827
CREATED:20240109T214539Z
LAST-MODIFIED:20240109T214849Z
UID:11774-1706860800-1706972400@mcgreenbank.org
SUMMARY:Mobilize Frederick 2024
DESCRIPTION:Montgomery County Green Bank’s CEO\, Stephen Morel will attend the second annual Mobilize Frederick Climate summit about the impact of Green Banks in the sustainability and clean energy campaign.
URL:https://mcgreenbank.org/event/mobilize-frederick-2024/
LOCATION:Hodson Auditorium & Whitaker Campus Center\, 401 Rosemont Ave.\, Frederick\, MD\, 21701\, United States
CATEGORIES:Conference,Event
END:VEVENT
BEGIN:VEVENT
DTSTART;TZID=America/New_York:20240208T173000
DTEND;TZID=America/New_York:20240208T203000
DTSTAMP:20260421T203827
CREATED:20231108T172752Z
LAST-MODIFIED:20231108T173013Z
UID:11567-1707413400-1707424200@mcgreenbank.org
SUMMARY:Seeing Green: Financing Better Buildings
DESCRIPTION:Learn about incentives and creative financing to improve local buildings and comply with the Building Energy Performance Standards.
URL:https://mcgreenbank.org/event/seeing-green-financing-better-buildings/
LOCATION:District Winery\, 385 Water Street\, Southeast Washington\, DC\, 20003\, United States
CATEGORIES:Event,Networking
ATTACH;FMTTYPE=image/jpeg:https://mcgreenbank.org/wp-content/uploads/2023/11/SEEING-GREEN.jpg
END:VEVENT
BEGIN:VEVENT
DTSTART;TZID=America/New_York:20240221T180000
DTEND;TZID=America/New_York:20240221T200000
DTSTAMP:20260421T203827
CREATED:20240214T201234Z
LAST-MODIFIED:20240214T201406Z
UID:12008-1708538400-1708545600@mcgreenbank.org
SUMMARY:The Energy Transition: The Bull/Bear Renewables Debate
DESCRIPTION:Washington Association of Money Managers is pleased to present:\nThe Energy Transition: The Bull/Bear Renewables Debate\nWednesday\, February 21\, 2024 at 6:00 PM (ET) \nTime:\nReception will begin at 6:00 PM\nPanel discussion will begin at 6:30 PM \nCOVID policy: We require all registrants to be vaccinated against COVID-19 prior to attending WAMM events. For the National Press Club policy on COVID requirements\, please see The National Press Club website for more information. \nThe energy transition is well underway as the global energy system is shifting away from fossil fuels. According to BloombergNEF\, global investment in the low-carbon energy transition surged 17% in 2023 reaching $1.77 trillion\, despite the effects of elevated geopolitical turbulence\, high interest rates\, and cost inflation. Electrified transport (e.g.\, cars\, buses\, commercial vehicles\, and the associated infrastructure) is now the largest sector for spending in the energy transition\, growing 36% in 2023 to $634 billion. \nDecarbonization of the U.S. economy alone is expected to translate into a $4 trillion investment opportunity through 2050. The Inflation Reduction Act (IRA) signed into law on August 16\, 2022 includes about $369 billion in incentives for energy and climate-related programs\, which are projected to accelerate the deployment of renewable generation from about 300GW currently to over 3\,500GW by 2050. Furthermore\, the need for grid resiliency and “smart grid” spending\, as well as electric vehicle (EV) infrastructure requirements\, will drive over $100 billion per year investment in transmission and distribution assets. Tax credit transferability\, i.e.\, one of the key provisions of the IRA\, is projected to boost cash flow profiles by providing early monetization of tax credits. \nNonetheless\, the need to accelerate the world’s transition to a low-carbon economy is fraught with roadblocks in an environment defined by higher-for-longer interest rates and tighter financing conditions. Deteriorating affordability of EVs and lengthening life of internal combustion engines pose another challenge to eroding one of oil’s key sources of demand. IRA repeal risks in light of the upcoming election have also been a key discussion topic within the investment community. Although unlikely to materialize\, modified terms or the use of administrative powers to limit the law’s impact could translate into slower capital deployment and earnings growth. \nWe are fortunate to have highly respected industry experts to walk us through the opportunities\, challenges\, and risks associated with the energy transition: \n\nMichael Cohen is Chief US Economist and Head of Oil and Refining in bp’s Strategy\, Sustainability & Ventures group. In this role\, he is responsible for short-\, medium-\, and long-term oil market and industry analysis that informs bp’s Leadership Team and the bp Energy Outlook.  Prior to joining bp in May 2019\, Michael was Barclays’ Global Head of Commodities Research. He also worked for a decade in the public sector as an Economist with the US Department of Energy\, and as a senior member of the Oil Markets Division at the IEA.\n\n\nStephen Morel is the Chief Executive Officer and was formerly the Chief Investment Officer of the Montgomery County Green Bank (MCGB). He comes to the Green Bank with a professional background in corporate and project finance\, with a particular interest in the use of public and private funds to fill market gaps and catalyze investment into high impact sectors. Prior to the MCGB\, Stephen led a financial consulting company dedicated to connecting infrastructure developers with debt and equity financing sources.\nChristopher (Chris) Versace is the Chief Investment Officer and thematic strategist at Tematica Research\, a thematic research and indexing firm. Tematica’s intellectual property and content powers several ETFs from Rize ETF\, Han ETF and Amplify ETFs. The proprietary thematic investing framework that he’s developed over the last 15 years leverages changing economic\, demographic\, psychographic and technology landscapes to identify pronounced\, multi-year structural changes. Chris is the co-author of “Cocktail Investing: Distilling Everyday Noise into Clear Investing Signals.”\n\nPlease note that the Chatham House Rule applies – neither the comments of the speaker nor those of other participants are for attribution. \nPlease register at wammdc.org by 6:00 PM ET on Wednesday\, February 21\, 2024. The event is $35 for WAMM members\, $55 for non-members\, $20 for student members\, and $25 for student non-members. Please try to register early\, as the space is limited! \n 
URL:https://mcgreenbank.org/event/the-energy-transition-the-bull-bear-renewables-debate/
LOCATION:The National Press Club\, 529 14th Street NW - 13th Floor\, DC\, 20045\, United States
CATEGORIES:Event,Forum,Panel Discussion
END:VEVENT
BEGIN:VEVENT
DTSTART;TZID=America/New_York:20240222T110000
DTEND;TZID=America/New_York:20240222T150000
DTSTAMP:20260421T203827
CREATED:20240214T202342Z
LAST-MODIFIED:20240214T202342Z
UID:12027-1708599600-1708614000@mcgreenbank.org
SUMMARY:2024 MCEC Legislative Reception: Decoding Decarbonization
DESCRIPTION:Maryland continues to set ambitious targets to reach Renewable Portfolio Standard (RPS) goals. Decoding decarbonization will be a critical step for state\, local communities\, and business leaders to develop successful strategies and partnerships for success. \nLegislators face challenges to meet climate change mitigation goals and targets set under the Climate Solutions Now Act 2022. Guest speakers will share updates on legislative priorities and plans for collaboration between agencies\, stakeholders\, and utilities to meet state goals.
URL:https://mcgreenbank.org/event/2024-mcec-legislative-reception-decoding-decarbonization/
LOCATION:Governor Calvert House\, 58 State Circle\, Annapolis\, MD\, 21401\, United States
CATEGORIES:Event,Forum,Panel Discussion
ORGANIZER;CN="Maryland Clean Energy Center":MAILTO:info@mdcleanenergy.org
END:VEVENT
BEGIN:VEVENT
DTSTART;TZID=America/New_York:20240229T080000
DTEND;TZID=America/New_York:20240229T130000
DTSTAMP:20260421T203827
CREATED:20231106T232201Z
LAST-MODIFIED:20231106T233820Z
UID:11555-1709193600-1709211600@mcgreenbank.org
SUMMARY:Decarb DC 2024
DESCRIPTION:Decarb DC 2024 will be hosted by Companies for NetZero\, a company that supports all organizations on their journey to decarbonizing real estate\, infrastructure and supply chains.\n\nThemes for the Summit will be: \n\nBuilding Energy Performance Standards (BEPS) and updates on the Inflation Reduction Act\n\n\n\n\n\n\n\n\n\nUnderstand tax codes.\n\n\n\n\n\n\n\n\nNew Innovations for Decarbonizing Assets\n\n\n\n\n\n\n\n\n\nFunded Solutions for Decarbonizing
URL:https://mcgreenbank.org/event/decarb-dc-2024/
LOCATION:The Towers Crescent Conference Center\, 1850 Towers Cres Plaza\, Tysons\, VA\, 22182\, United States
CATEGORIES:Conference,Event
ORGANIZER;CN="Companies for NetZero":MAILTO:info@companiesfornetzero.com
END:VEVENT
END:VCALENDAR