BEGIN:VCALENDAR
VERSION:2.0
PRODID:-//Montgomery County Green Bank - ECPv6.15.20//NONSGML v1.0//EN
CALSCALE:GREGORIAN
METHOD:PUBLISH
X-ORIGINAL-URL:https://mcgreenbank.org
X-WR-CALDESC:Events for Montgomery County Green Bank
REFRESH-INTERVAL;VALUE=DURATION:PT1H
X-Robots-Tag:noindex
X-PUBLISHED-TTL:PT1H
BEGIN:VTIMEZONE
TZID:America/New_York
BEGIN:DAYLIGHT
TZOFFSETFROM:-0500
TZOFFSETTO:-0400
TZNAME:EDT
DTSTART:20230312T070000
END:DAYLIGHT
BEGIN:STANDARD
TZOFFSETFROM:-0400
TZOFFSETTO:-0500
TZNAME:EST
DTSTART:20231105T060000
END:STANDARD
BEGIN:DAYLIGHT
TZOFFSETFROM:-0500
TZOFFSETTO:-0400
TZNAME:EDT
DTSTART:20240310T070000
END:DAYLIGHT
BEGIN:STANDARD
TZOFFSETFROM:-0400
TZOFFSETTO:-0500
TZNAME:EST
DTSTART:20241103T060000
END:STANDARD
BEGIN:DAYLIGHT
TZOFFSETFROM:-0500
TZOFFSETTO:-0400
TZNAME:EDT
DTSTART:20250309T070000
END:DAYLIGHT
BEGIN:STANDARD
TZOFFSETFROM:-0400
TZOFFSETTO:-0500
TZNAME:EST
DTSTART:20251102T060000
END:STANDARD
END:VTIMEZONE
BEGIN:VEVENT
DTSTART;TZID=America/New_York:20240105T080000
DTEND;TZID=America/New_York:20240105T170000
DTSTAMP:20260421T220759
CREATED:20231218T204607Z
LAST-MODIFIED:20231218T204607Z
UID:11688-1704441600-1704474000@mcgreenbank.org
SUMMARY:Advancing Climate Resilience in Maryland
DESCRIPTION:A forum for Maryland stakeholders and University of Maryland researchers to examine climate and weather-related community impacts\, vulnerabilities\, risks and sustainable futures. \nMaryland community leaders and decision makers are invited to the University of Maryland to guide research priorities and identify how emerging research can strengthen community climate resilience efforts. \nThis is your opportunity to speak with experts on sea level rise\, coastal flooding\, freshwater salinization\, stream erosion\, climate change\, agriculture\, citizen science\, air quality\, experiential learning opportunities & more. \nKeynote speaker Dr. David DeWitt\, Director of the NOAA National Weather Service Climate Prediction Center.
URL:https://mcgreenbank.org/event/advancing-climate-resilience-in-maryland/
LOCATION:Earth System Science Interdisciplinary Center (ESSIC)\, 5825 University Research Court\, Suite 4001\, College Park\, MD\, 20740-3823\, United States
CATEGORIES:Forum,Panel Discussion
ATTACH;FMTTYPE=image/png:https://mcgreenbank.org/wp-content/uploads/2023/12/science-service-community.png
END:VEVENT
BEGIN:VEVENT
DTSTART;TZID=America/New_York:20240109T173000
DTEND;TZID=America/New_York:20240109T190000
DTSTAMP:20260421T220759
CREATED:20231116T194129Z
LAST-MODIFIED:20240105T184847Z
UID:11605-1704821400-1704826800@mcgreenbank.org
SUMMARY:Bethesda Chamber of Commerce:  OFF THE CLOCK
DESCRIPTION:Join us for our monthly “Off the Clock” Networking Happy Hour\, \nhosted by  \nTACOMBI
URL:https://mcgreenbank.org/event/2024-mobilize-frederick-climate-summit/
LOCATION:Tacombi\, 4749 Bethesda Ave\, Bethesda\, 20814\, United States
CATEGORIES:Event,Networking
ATTACH;FMTTYPE=image/png:https://mcgreenbank.org/wp-content/uploads/2023/11/off-the-clock.png
END:VEVENT
BEGIN:VEVENT
DTSTART;TZID=America/New_York:20240110T100000
DTEND;TZID=America/New_York:20240110T110000
DTSTAMP:20260421T220759
CREATED:20240108T151412Z
LAST-MODIFIED:20240108T151921Z
UID:11760-1704880800-1704884400@mcgreenbank.org
SUMMARY:Closing the Electrification Gap with Josh Green
DESCRIPTION:Kick off your 2024 with a lively and informative conversation on electrifying commercial transportation. by watching the #livestream on Wednesday\, January 10 with CEO Josh Green\, of Inspiration Mobility Group\, who will sit down with Ken Biberaj from Savills North America on his #CoffeewithKen series. \nJosh and Ken will cover everything from why the time to electrify is now\, what Inspiration is doing to expand charging infrastructure\, and how to close the Electrification Action Gap.
URL:https://mcgreenbank.org/event/closing-the-electrification-gap-with-josh-green/
LOCATION:1333 New Hampshire Ave NW\, Washington\, DC 20036\, 1333 New Hampshire Ave Nw\, Washington DC\, DC\, 20036\, United States
CATEGORIES:Networking
ATTACH;FMTTYPE=image/jpeg:https://mcgreenbank.org/wp-content/uploads/2024/01/josh-Green.jpg
END:VEVENT
BEGIN:VEVENT
DTSTART;TZID=America/New_York:20240118T080000
DTEND;TZID=America/New_York:20240118T090000
DTSTAMP:20260421T220759
CREATED:20240112T184605Z
LAST-MODIFIED:20240112T185001Z
UID:11792-1705564800-1705568400@mcgreenbank.org
SUMMARY:Notice of January 18\, 2024\, Virtual Finance and Operations Committee Meeting
DESCRIPTION:The Montgomery County Green Bank will be holding a Virtual Finance and Operations Committee Meeting on Thursday\, January 18\, 2024\, 8:00am – 9:00am. The public is permitted to attend this meeting.  If you would like to be there\, please RSVP in advance to info@mcgreenbank.org.  The agenda link will be found here as soon as it is available.
URL:https://mcgreenbank.org/event/notice-of-january-18-2024-virtual-finance-and-operations-committee-meeting/
LOCATION:Teleconference\, United States
CATEGORIES:Finance and Operations Committee Meeting
ATTACH;FMTTYPE=image/jpeg:https://mcgreenbank.org/wp-content/uploads/2021/12/board-meetings.jpg
END:VEVENT
BEGIN:VEVENT
DTSTART;VALUE=DATE:20240124
DTEND;VALUE=DATE:20240128
DTSTAMP:20260421T220759
CREATED:20231128T210636Z
LAST-MODIFIED:20231128T210748Z
UID:11654-1706054400-1706399999@mcgreenbank.org
SUMMARY:Naturally Latinos Conference
DESCRIPTION:The 5th Naturally Latinos Conference is scheduled for Wednesday\, January 24th\, through Saturday\, January 27th. Themed “Pertenenciendo: Nuestras Raíces\, Nuestra Tierra (Belonging: Our Roots\, Our Earth)\,” this multi-media experience will provide virtual (Wednesday and Thursday) and in-person (Friday) dialogue\, presentations and performances focused on the needs and interests of the Washington\, DC region and even national and international Latine environmental professionals\, environmental justice advocates\, educators\, and nature enthusiasts. \nThe conference will also include a day of immersive outdoor nature experiences appropriate to the time of year. We are currently finalizing our dynamic speakers and panelists and compelling performing artists\, including a keynote address by Vanessa GarcÍa Polanco\, a researcher and Government Relations Director at the National Young Farmers Coalition. An anticipated 400 attendees will leave Naturally Latinos 2024 inspired\, reinvigorated\, and connected to a growing community of people bringing about environmental change.
URL:https://mcgreenbank.org/event/naturally-latino-conference/
LOCATION:Silver Spring Civic Center\, 1 Veteran's Pl\, Silver Spring\, MD\, 20910\, United States
CATEGORIES:Conference,Event
ATTACH;FMTTYPE=image/png:https://mcgreenbank.org/wp-content/uploads/2023/11/naturally-latinos.png
END:VEVENT
BEGIN:VEVENT
DTSTART;TZID=America/New_York:20240124T133000
DTEND;TZID=America/New_York:20240124T163000
DTSTAMP:20260421T220759
CREATED:20230707T180230Z
LAST-MODIFIED:20240117T174923Z
UID:11078-1706103000-1706113800@mcgreenbank.org
SUMMARY:Notice of January 24\, 2024 Virtual Board Meeting
DESCRIPTION:The Montgomery County Green Bank will be holding a Virtual Board of Directors Meeting on Wednesday\, January 24\, 2024\, 1:30-4:30 PM. The public is permitted to attend this meeting.  If you would like to be there\, please RSVP in advance to info@mcgreenbank.org.  The agenda link will be found here .
URL:https://mcgreenbank.org/event/notice-of-january-24-2024-virtual-board-meeting/
LOCATION:Teleconference\, United States
CATEGORIES:Board Meetings
ATTACH;FMTTYPE=image/jpeg:https://mcgreenbank.org/wp-content/uploads/2021/12/board-meetings.jpg
END:VEVENT
BEGIN:VEVENT
DTSTART;TZID=America/New_York:20240125T120000
DTEND;TZID=America/New_York:20240125T130000
DTSTAMP:20260421T220759
CREATED:20240117T160311Z
LAST-MODIFIED:20240117T160311Z
UID:11802-1706184000-1706187600@mcgreenbank.org
SUMMARY:Maryland Clean Energy Center : Introduction to Green Banks
DESCRIPTION:A virtual informative event that will discuss the importance and role of Green Banks.
URL:https://mcgreenbank.org/event/maryland-clean-energy-center-introduction-to-green-banks/
LOCATION:Zoom
CATEGORIES:Panel Discussion
END:VEVENT
BEGIN:VEVENT
DTSTART;TZID=America/New_York:20240125T160000
DTEND;TZID=America/New_York:20240125T180000
DTSTAMP:20260421T220759
CREATED:20240103T160027Z
LAST-MODIFIED:20240103T160027Z
UID:11729-1706198400-1706205600@mcgreenbank.org
SUMMARY:Market Series: Climate Risk Management for Community Banks: Opportunities & Challenges Ahead
DESCRIPTION:This Montgomery County Green Bank event is ideally suited for local and regional banks\, relationship managers\, credit risk officers\, loan officers\, and underwriters in the Washington DC region. Community Banks are exposed to climate-related risks through their lending portfolios. This session will bring critical information to local capital providers on: \n\nWhat are climate risks\, and what type of risks exist in community bank portfolios\nBenefits and challenges for local banks with identifying climate-related risks\nUnderstanding transmission channels\nDiscuss opportunities in climate risk management\n\nPanelists: \n\nChris Cucci\, Chief of Staff at Climate First Bank\nSteve Morel\, CEO at Montgomery County Green Bank\nStacy Swan\, CEO at Resilient Earth Capital and MCGB Board Member\nSonia Khanna\, Managing Director at Forbright Bank
URL:https://mcgreenbank.org/event/market-series-climate-risk-management-for-community-banks-opportunities-challenges-ahead/
LOCATION:Cohn Reznik\, 1301 Avenue Of The Americas\, New York\, NY\, 10019\, United States
CATEGORIES:Event,Market Series,Networking,Panel Discussion
ATTACH;FMTTYPE=image/png:https://mcgreenbank.org/wp-content/uploads/2024/01/Market-Series-8-1.png
END:VEVENT
BEGIN:VEVENT
DTSTART;TZID=America/New_York:20240128T113000
DTEND;TZID=America/New_York:20240128T123000
DTSTAMP:20260421T220759
CREATED:20231024T204637Z
LAST-MODIFIED:20240109T202251Z
UID:11490-1706441400-1706445000@mcgreenbank.org
SUMMARY:Solar Celebration at St. Peter's Poolesville
DESCRIPTION:St Peter’s congregation\, Montgomery County Green Bank and Poolesville Green\, Inc. will host a ribbon cutting celebration and dedication of the new solar panels at St Peter’s Episcopal Church!
URL:https://mcgreenbank.org/event/solar-celebration-at-st-peters-poolesville/
LOCATION:St Peter’s Episcopal\, 20100 Fisher Ave\, Poolesville\, MD\, 20837\, United States
CATEGORIES:Celebration,Event,Networking
ATTACH;FMTTYPE=image/jpeg:https://mcgreenbank.org/wp-content/uploads/2023/10/st-peters.jpg
END:VEVENT
END:VCALENDAR