BEGIN:VCALENDAR
VERSION:2.0
PRODID:-//Montgomery County Green Bank - ECPv6.15.20//NONSGML v1.0//EN
CALSCALE:GREGORIAN
METHOD:PUBLISH
X-ORIGINAL-URL:https://mcgreenbank.org
X-WR-CALDESC:Events for Montgomery County Green Bank
REFRESH-INTERVAL;VALUE=DURATION:PT1H
X-Robots-Tag:noindex
X-PUBLISHED-TTL:PT1H
BEGIN:VTIMEZONE
TZID:America/New_York
BEGIN:DAYLIGHT
TZOFFSETFROM:-0500
TZOFFSETTO:-0400
TZNAME:EDT
DTSTART:20220313T070000
END:DAYLIGHT
BEGIN:STANDARD
TZOFFSETFROM:-0400
TZOFFSETTO:-0500
TZNAME:EST
DTSTART:20221106T060000
END:STANDARD
BEGIN:DAYLIGHT
TZOFFSETFROM:-0500
TZOFFSETTO:-0400
TZNAME:EDT
DTSTART:20230312T070000
END:DAYLIGHT
BEGIN:STANDARD
TZOFFSETFROM:-0400
TZOFFSETTO:-0500
TZNAME:EST
DTSTART:20231105T060000
END:STANDARD
BEGIN:DAYLIGHT
TZOFFSETFROM:-0500
TZOFFSETTO:-0400
TZNAME:EDT
DTSTART:20240310T070000
END:DAYLIGHT
BEGIN:STANDARD
TZOFFSETFROM:-0400
TZOFFSETTO:-0500
TZNAME:EST
DTSTART:20241103T060000
END:STANDARD
END:VTIMEZONE
BEGIN:VEVENT
DTSTART;TZID=America/New_York:20231213T160000
DTEND;TZID=America/New_York:20231213T180000
DTSTAMP:20260421T235242
CREATED:20231103T185014Z
LAST-MODIFIED:20231106T215059Z
UID:11542-1702483200-1702490400@mcgreenbank.org
SUMMARY:Partner Appreciation Event 2023
DESCRIPTION:Come and celebrate with the Staff and Board of the Montgomery County Green bank as we come to the end of another year of great strides\, completed goals and big rewards.
URL:https://mcgreenbank.org/event/partner-appreciation-event-2023/
LOCATION:Seasons 52\, 11414 Rockville Pike\, North Bethesda\, MD\, 20852\, United States
CATEGORIES:Celebration
ATTACH;FMTTYPE=image/png:https://mcgreenbank.org/wp-content/uploads/2023/11/Annual-Green-Bank-Partner-Appreciation-Event-4.png
END:VEVENT
BEGIN:VEVENT
DTSTART;TZID=America/New_York:20231218T080000
DTEND;TZID=America/New_York:20231218T100000
DTSTAMP:20260421T235242
CREATED:20231114T210118Z
LAST-MODIFIED:20231114T210222Z
UID:11598-1702886400-1702893600@mcgreenbank.org
SUMMARY:NAIOP-DC Guest Holiday Breakfast
DESCRIPTION:Guest speaker\, Basu will provide Indepth analysis of the major factors affecting economic outcome.
URL:https://mcgreenbank.org/event/naiop-dc-guest-holiday-breakfast/
LOCATION:Congressional Country Club\, 8500 River Rd\, Bethesda\, MD\, 20817\, United States
CATEGORIES:Breakfast,Networking
END:VEVENT
END:VCALENDAR