BEGIN:VCALENDAR
VERSION:2.0
PRODID:-//Montgomery County Green Bank - ECPv6.15.20//NONSGML v1.0//EN
CALSCALE:GREGORIAN
METHOD:PUBLISH
X-ORIGINAL-URL:https://mcgreenbank.org
X-WR-CALDESC:Events for Montgomery County Green Bank
REFRESH-INTERVAL;VALUE=DURATION:PT1H
X-Robots-Tag:noindex
X-PUBLISHED-TTL:PT1H
BEGIN:VTIMEZONE
TZID:America/New_York
BEGIN:DAYLIGHT
TZOFFSETFROM:-0500
TZOFFSETTO:-0400
TZNAME:EDT
DTSTART:20220313T070000
END:DAYLIGHT
BEGIN:STANDARD
TZOFFSETFROM:-0400
TZOFFSETTO:-0500
TZNAME:EST
DTSTART:20221106T060000
END:STANDARD
BEGIN:DAYLIGHT
TZOFFSETFROM:-0500
TZOFFSETTO:-0400
TZNAME:EDT
DTSTART:20230312T070000
END:DAYLIGHT
BEGIN:STANDARD
TZOFFSETFROM:-0400
TZOFFSETTO:-0500
TZNAME:EST
DTSTART:20231105T060000
END:STANDARD
BEGIN:DAYLIGHT
TZOFFSETFROM:-0500
TZOFFSETTO:-0400
TZNAME:EDT
DTSTART:20240310T070000
END:DAYLIGHT
BEGIN:STANDARD
TZOFFSETFROM:-0400
TZOFFSETTO:-0500
TZNAME:EST
DTSTART:20241103T060000
END:STANDARD
END:VTIMEZONE
BEGIN:VEVENT
DTSTART;TZID=America/New_York:20230406T080000
DTEND;TZID=America/New_York:20230406T090000
DTSTAMP:20260421T224650
CREATED:20230327T144748Z
LAST-MODIFIED:20230330T141448Z
UID:10682-1680768000-1680771600@mcgreenbank.org
SUMMARY:Notice of April 6\, 2023 Special Board Meeting
DESCRIPTION:The Montgomery County Green Bank will be holding a Board of Directors Special Board Meeting on Thursday\, April 6\, 2023\, 8:00-9:00 AM. The public is permitted to attend this meeting.  If you would like to attend virtually\, Please RSVP in advance to info@mcgreenbank.org. Find the meeting agenda here.
URL:https://mcgreenbank.org/event/notice-of-april-6-2023-special-board-meeting/
LOCATION:MD
CATEGORIES:Board Meetings
ATTACH;FMTTYPE=image/jpeg:https://mcgreenbank.org/wp-content/uploads/2021/12/board-meetings.jpg
END:VEVENT
BEGIN:VEVENT
DTSTART;TZID=America/New_York:20230419T110000
DTEND;TZID=America/New_York:20230419T140000
DTSTAMP:20260421T224650
CREATED:20230301T191309Z
LAST-MODIFIED:20230303T180602Z
UID:10579-1681902000-1681912800@mcgreenbank.org
SUMMARY:Celebrating the Largest Affordable Multifamily Rooftop Solar Project in Montgomery County
DESCRIPTION:Join us as we celebrate the launch of the largest rooftop solar project on an affordable multifamily property in Montgomery County. A 2.18 MW rooftop solar array to be installed at Seneca Village affordable apartments in Gaithersburg\, MD has been funded in partnership by the Montgomery County Green Bank\, Virginia Community Capital\, and NYCEEC. This event will provide members of the Seneca Village community\, stakeholders and partner organizations who made this project possible with an opportunity to celebrate this historic moment in Montgomery County’s history.
URL:https://mcgreenbank.org/event/celebrating-the-largest-affordable-multifamily-rooftop-solar-project-in-montgomery-county/
LOCATION:Seneca Village Apartments\, 750 Clopper Rd\, Gaithersburg\, MD\, 20878\, United States
CATEGORIES:Event
END:VEVENT
BEGIN:VEVENT
DTSTART;VALUE=DATE:20230422
DTEND;VALUE=DATE:20230424
DTSTAMP:20260421T224650
CREATED:20230301T184442Z
LAST-MODIFIED:20230301T184442Z
UID:10577-1682121600-1682294399@mcgreenbank.org
SUMMARY:Montgomery County Green Fest 2023
DESCRIPTION:The Montgomery County GreenFest is the largest annual environmental festival in Montgomery County\, MD. GreenFest is organized by a coalition of public\, non-profit\, and university partners. This years GreenFest will be taking place at two different locations over one weekend!\nBrookside Gardens – April 22\, 2023\, 11am – 4pm\nThis event will focus on protecting and preserving the natural environment. Topics covered will include land use\, food consumption and composting\, clean water\, biodiversity\, sustainable gardening\, and environmental justice. \nDowntown Wheaton (2425 Reedie Drive) – April 23\, 2023\, 12pm – 5pm\nThis event will address how residents can “green” their home and daily commute. Topics covered at this event will include energy consumption\, home and appliance efficiency\, recycling\, transportation\, electric vehicles\, and green business initiatives.
URL:https://mcgreenbank.org/event/montgomery-county-green-fest-2023/
LOCATION:MD
CATEGORIES:Event
END:VEVENT
BEGIN:VEVENT
DTSTART;TZID=America/New_York:20230426T133000
DTEND;TZID=America/New_York:20230426T163000
DTSTAMP:20260421T224650
CREATED:20220803T164523Z
LAST-MODIFIED:20230424T130801Z
UID:9459-1682515800-1682526600@mcgreenbank.org
SUMMARY:Notice of April 26\, 2023 Board Meeting
DESCRIPTION:The Montgomery County Green Bank will be holding a Board of Directors Meeting on Wednesday\, April 26\, 2023\, 1:30-4:30 PM. The public is permitted to attend this meeting.  If you would like to be there\, please RSVP in advance to info@mcgreenbank.org. Kindly review the meeting agenda here.
URL:https://mcgreenbank.org/event/notice-of-april-26-2023-board-meeting/
LOCATION:Home Office\, 155 Gibbs Street\, Rockville\, MD\, 20874\, United States
CATEGORIES:Board Meetings
ATTACH;FMTTYPE=image/jpeg:https://mcgreenbank.org/wp-content/uploads/2021/12/board-meetings.jpg
END:VEVENT
BEGIN:VEVENT
DTSTART;TZID=America/New_York:20230427T100000
DTEND;TZID=America/New_York:20230427T130000
DTSTAMP:20260421T224650
CREATED:20230425T141824Z
LAST-MODIFIED:20230425T141824Z
UID:10770-1682589600-1682600400@mcgreenbank.org
SUMMARY:Expanding EV Charging in the DMV
DESCRIPTION:Industry leaders will talk about DMV’s plans to improve electric infrastructure\, electric grid resilience\, charging capability\, and more.
URL:https://mcgreenbank.org/event/expanding-ev-charging-in-the-dmv/
LOCATION:Metropolitan Washington COUNCIL\, North Capitol Street Northeast #300\, Washington\, DC\, 20002\, United States
END:VEVENT
BEGIN:VEVENT
DTSTART;TZID=America/New_York:20230427T170000
DTEND;TZID=America/New_York:20230427T180000
DTSTAMP:20260421T224650
CREATED:20230425T142532Z
LAST-MODIFIED:20230425T142532Z
UID:10775-1682614800-1682618400@mcgreenbank.org
SUMMARY:Solar Workshop for Faith and Community Leaders
DESCRIPTION:Join One Montgomery Green\, the Wheaton Sustainable Innovation Zone\, Interfaith Power& Light for a presentation on how Green Bank can help your Faith-Based\, Civic\, or Home Owner association. The presentation will also be available virtually but we hope to see you in person for an informative conversation. \nSolar Workshop Flyer
URL:https://mcgreenbank.org/event/solar-workshop-for-faith-and-community-leaders/
LOCATION:WorkSource Montgomery Wheaton Office\, 11510 Georgia Ave\, Wheaton-Glenmont\, MD\, 20902\, United States
END:VEVENT
END:VCALENDAR