BEGIN:VCALENDAR
VERSION:2.0
PRODID:-//Montgomery County Green Bank - ECPv6.15.20//NONSGML v1.0//EN
CALSCALE:GREGORIAN
METHOD:PUBLISH
X-ORIGINAL-URL:https://mcgreenbank.org
X-WR-CALDESC:Events for Montgomery County Green Bank
REFRESH-INTERVAL;VALUE=DURATION:PT1H
X-Robots-Tag:noindex
X-PUBLISHED-TTL:PT1H
BEGIN:VTIMEZONE
TZID:America/New_York
BEGIN:DAYLIGHT
TZOFFSETFROM:-0500
TZOFFSETTO:-0400
TZNAME:EDT
DTSTART:20210314T070000
END:DAYLIGHT
BEGIN:STANDARD
TZOFFSETFROM:-0400
TZOFFSETTO:-0500
TZNAME:EST
DTSTART:20211107T060000
END:STANDARD
BEGIN:DAYLIGHT
TZOFFSETFROM:-0500
TZOFFSETTO:-0400
TZNAME:EDT
DTSTART:20220313T070000
END:DAYLIGHT
BEGIN:STANDARD
TZOFFSETFROM:-0400
TZOFFSETTO:-0500
TZNAME:EST
DTSTART:20221106T060000
END:STANDARD
BEGIN:DAYLIGHT
TZOFFSETFROM:-0500
TZOFFSETTO:-0400
TZNAME:EDT
DTSTART:20230312T070000
END:DAYLIGHT
BEGIN:STANDARD
TZOFFSETFROM:-0400
TZOFFSETTO:-0500
TZNAME:EST
DTSTART:20231105T060000
END:STANDARD
END:VTIMEZONE
BEGIN:VEVENT
DTSTART;TZID=America/New_York:20220906T180000
DTEND;TZID=America/New_York:20220906T200000
DTSTAMP:20260423T003802
CREATED:20220810T160703Z
LAST-MODIFIED:20220810T160703Z
UID:9497-1662487200-1662494400@mcgreenbank.org
SUMMARY:EV Charging for Condos\, Co-ops and Townhomes
DESCRIPTION:Electric vehicles are coming to Montgomery County\, and it’s no surprise why: EVs save money\, reduce emissions\, and are fun to drive.Charging at home is one of the biggest benefits of driving electric\, making it an important asset for condos\, co-ops\, and townhomes with shared parking.\nMultiple communities across the county have installed charging or begun exploring the process. \n• What are the benefits of EV charging?\n• How many chargers should we install?\n• How can we manage shared parking?\n• How much does it cost and what incentives and financing are available?\n• What should we expect from permitting and construction? \nJoin this webinar to learn what you need to install charging or began the installation process.\n \nVisit here to register.
URL:https://mcgreenbank.org/event/ev-charging-for-condos-co-ops-and-townhomes/
LOCATION:Teleconference\, United States
CATEGORIES:Webinar
ATTACH;FMTTYPE=image/png:https://mcgreenbank.org/wp-content/uploads/2022/08/Social-Media-Webinar-EV-Charging-for-Condos-Facebook.png
END:VEVENT
BEGIN:VEVENT
DTSTART;TZID=America/New_York:20220911T100000
DTEND;TZID=America/New_York:20220911T120000
DTSTAMP:20260423T003802
CREATED:20220810T161003Z
LAST-MODIFIED:20220810T161003Z
UID:9502-1662890400-1662897600@mcgreenbank.org
SUMMARY:EV Charging for Condos\, Co-ops and Townhomes
DESCRIPTION:Electric vehicles are coming to Montgomery County\, and it’s no surprise why: EVs save money\, reduce emissions\, and are fun to drive.Charging at home is one of the biggest benefits of driving electric\, making it an important asset for condos\, co-ops\, and townhomes with shared parking.\nMultiple communities across the county have installed charging or begun exploring the process. \n• What are the benefits of EV charging?\n• How many chargers should we install?\n• How can we manage shared parking?\n• How much does it cost and what incentives and financing are available?\n• What should we expect from permitting and construction? \nJoin this webinar to learn what you need to install charging or began the installation process.\n \nVisit here to register.
URL:https://mcgreenbank.org/event/ev-charging-for-condos-co-ops-and-townhomes-2/
LOCATION:Teleconference\, United States
CATEGORIES:Webinar
ATTACH;FMTTYPE=image/png:https://mcgreenbank.org/wp-content/uploads/2022/08/Social-Media-Webinar-EV-Charging-for-Condos-Facebook.png
END:VEVENT
BEGIN:VEVENT
DTSTART;TZID=America/New_York:20220917T100000
DTEND;TZID=America/New_York:20220917T160000
DTSTAMP:20260423T003802
CREATED:20220803T153613Z
LAST-MODIFIED:20220803T161844Z
UID:9441-1663408800-1663430400@mcgreenbank.org
SUMMARY:Poolesville Day National Drive Electric Show
DESCRIPTION:Poolesville Green’s 2021 National Drive Electric Week (NDEW) Poolesville Day Electric Vehicle Show was a huge success again! With 260+ vehicles registered\, we were the largest NDEW event out of 245+ events worldwide (based on registered vehicles).  We expect even more visitors\, more highlights\, more big sponsors\, manufacturers\, and dealerships\, more rides and drives\, more give-a-ways\, and more FUN this coming year!  Let’s make 2022 the biggest and best year ever. Come help us make it happen! \nFor most of the answers to the Who\, What\, Where\, When\, and How (with maps) please check: http://poolesville.green/what-to-do/ \n\nREGISTER NOW\n\nWhy Come?\n\n\nTo learn more about your EV and other EVs from real EV owners\, from dealerships\, and from manufacturers\nTo share what you know with other EVers and with the general public (help them “Join the rEVolution“)\nAnd most of all\, to have Fun!  Oh\, and get free stuff.\n\n\nWho Should Register? \n\nAnyone interested in getting event updates and changes.\n\n\nPlug-In Electric and Plug-In Hybrid Electric Car Owners who love to show off their vehicles and to share with others: The more the merrier. (Free event shirt\, “Swag Bag” and other goodies for Registered Vehicle Owners/Dealerships\, first come\, first served\, while supplies last). Plus registered drivers only free drawings.\n\n\nSponsors: We need sponsors to help make this the best NDEW event ever.\n\n\nMedia: Please help us get the word out! Exclusive access! Pre-event demonstrations.\n\n\nVolunteers: We need the help (you get a T-shirt for that) :)\n\n\nALL (Note: Only Sponsors\, Volunteers\, and EV / PHEV Car owners will get a FREE T-Shirt\, but all can reserve one (for $18 donation)).\nRegistering Multiple Vehicles: Bringing more than 1 Electric/Plug-In Hybrid Vehicle? Please register each (Note: Each registration will have to have its own email address\, otherwise it will overwrite your 1st registration).  Use a 2nd email address on a new registration or tell us home many vehicles you are bringing in the comment section\, this helps in our event planning.\n\n\n\nWhy Register Now? \n\nYou will be notified of any changes\, additions\, headliners\, and of any related EV events\,\n\n\nRegistration helps us plan the event and to arrange for the correct number of T-Shirts and give-a-ways (Free to Registered Vehicle Owners/Dealerships). Note\, we usually have a limited supply of t-shirts. Please sign up early and we will do our best to have enough.\n\n\nSo please help us help you\, EV owner or not\, please register here and now.\n\n\nNot sure if you can make it? Register now anyway! That way you will know if there are any changes. We can remove your name later if you find you cannot attend (just send me a note).\n\n\nShowing early interest helps media and sponsors to gauge and encourage their participation.\n\n\nClick the blue REGISTER button at the top of this page and you’ll be entered for a chance to win a $250 Visa gift card\n\n  \nVisit here to register.
URL:https://mcgreenbank.org/event/poolesville-day-national-drive-electric-show/
LOCATION:MD
CATEGORIES:Event
ATTACH;FMTTYPE=image/png:https://mcgreenbank.org/wp-content/uploads/2022/08/Adam-Auel-Auel_190921_9453.png
ORGANIZER;CN="Poolesville Green":MAILTO:Contact@Poolesville.Green
END:VEVENT
BEGIN:VEVENT
DTSTART;TZID=America/New_York:20220930T090000
DTEND;TZID=America/New_York:20220930T113000
DTSTAMP:20260423T003802
CREATED:20220803T163347Z
LAST-MODIFIED:20220913T163417Z
UID:9453-1664528400-1664537400@mcgreenbank.org
SUMMARY:Notice of September 30\, 2022 Board Meeting
DESCRIPTION:The Montgomery County Green Bank will be holding a Board of Directors Meeting on Friday\, September 30\, 2022\, 9:00 AM-11:30 AM. The public is permitted to attend this meeting.  If you would like to be there\, please RSVP in advance to info@mcgreenbank.org.  The meeting agenda can be found here.
URL:https://mcgreenbank.org/event/notice-of-september-30-2022-board-meeting/
LOCATION:Teleconference\, United States
CATEGORIES:Board Meetings
ATTACH;FMTTYPE=image/jpeg:https://mcgreenbank.org/wp-content/uploads/2021/12/board-meetings.jpg
END:VEVENT
END:VCALENDAR