BEGIN:VCALENDAR
VERSION:2.0
PRODID:-//Montgomery County Green Bank - ECPv6.15.20//NONSGML v1.0//EN
CALSCALE:GREGORIAN
METHOD:PUBLISH
X-ORIGINAL-URL:https://mcgreenbank.org
X-WR-CALDESC:Events for Montgomery County Green Bank
REFRESH-INTERVAL;VALUE=DURATION:PT1H
X-Robots-Tag:noindex
X-PUBLISHED-TTL:PT1H
BEGIN:VTIMEZONE
TZID:America/New_York
BEGIN:DAYLIGHT
TZOFFSETFROM:-0500
TZOFFSETTO:-0400
TZNAME:EDT
DTSTART:20210314T070000
END:DAYLIGHT
BEGIN:STANDARD
TZOFFSETFROM:-0400
TZOFFSETTO:-0500
TZNAME:EST
DTSTART:20211107T060000
END:STANDARD
BEGIN:DAYLIGHT
TZOFFSETFROM:-0500
TZOFFSETTO:-0400
TZNAME:EDT
DTSTART:20220313T070000
END:DAYLIGHT
BEGIN:STANDARD
TZOFFSETFROM:-0400
TZOFFSETTO:-0500
TZNAME:EST
DTSTART:20221106T060000
END:STANDARD
BEGIN:DAYLIGHT
TZOFFSETFROM:-0500
TZOFFSETTO:-0400
TZNAME:EDT
DTSTART:20230312T070000
END:DAYLIGHT
BEGIN:STANDARD
TZOFFSETFROM:-0400
TZOFFSETTO:-0500
TZNAME:EST
DTSTART:20231105T060000
END:STANDARD
END:VTIMEZONE
BEGIN:VEVENT
DTSTART;TZID=America/New_York:20220607T083000
DTEND;TZID=America/New_York:20220607T093000
DTSTAMP:20260423T051237
CREATED:20220524T132049Z
LAST-MODIFIED:20220524T204514Z
UID:9129-1654590600-1654594200@mcgreenbank.org
SUMMARY:Montgomery County BEPS and Opportunities for Contractors
DESCRIPTION:Join the Montgomery County Green Bank\, Department of Environmental Protection\, and DC’s Building Innovation Hub for our first post-pandemic\, in-person casual breakfast discussion about the newly passed Building Energy Performace Standards (BEPS) in Montgomery County\, MD. \nThe conversation will focus on potential opportunities for contractors through the new BEPS legislation. We will also review case studies from Washington DC\, where the BEPS law has already been in effect for several months. \nMontgomery County Green Bank will share some of the new upcoming programs to support contractors in this new endeavor toward a net-zero MoCo. \nWe look forward to meeting again in person. \nRegistration is required. Register here.
URL:https://mcgreenbank.org/event/montgomery-county-beps-and-opportunities-for-contractors/
LOCATION:The Jewish Federation of Greater Washington\, 6101 Executive Boulevard #100\, North Bethesda\, MD\, 20852\, United States
CATEGORIES:Event
ATTACH;FMTTYPE=image/png:https://mcgreenbank.org/wp-content/uploads/2022/04/Untitled-design-4.png
END:VEVENT
BEGIN:VEVENT
DTSTART;TZID=America/New_York:20220617T120000
DTEND;TZID=America/New_York:20220617T131500
DTSTAMP:20260423T051237
CREATED:20220525T145904Z
LAST-MODIFIED:20220525T161941Z
UID:9157-1655467200-1655471700@mcgreenbank.org
SUMMARY:Maryland Co-op Info Session
DESCRIPTION:June 17 @ 12:00 pm – 1:15 pm EDT\n\n\n\n\n\nThis is the third of the five Info Sessions we will be hosting for folks in Maryland\, and an opportunity to join and learn about solar energy and its benefits for your home\, or small business. We’ll take you through technology\, economics\, financing\, and more. \nYou’ll also learn about the solar co-op we launched. The co-op is free to join and members are *not* obligated to buy solar panels. \nCo-op members get: \n• a free review of your roof to see if solar panels will work for you\n• one-on-one support for all your questions about going solar\n• an individualized proposal for solar at a bulk rate \nFind out more with no obligations and from the comfort of home. This will be a live presentation so bring your questions about solar and we’ll answer them! \nAfter signing up\, Solar United Neighbors may contact you by email or phone with campaign updates and other offers of engagement. You can unsubscribe at any time. \n\nRegister for the webinar here. 
URL:https://mcgreenbank.org/event/maryland-co-op-info-session/
LOCATION:Teleconference\, United States
CATEGORIES:Event
ATTACH;FMTTYPE=image/png:https://mcgreenbank.org/wp-content/uploads/2022/05/SUN-logo-horizontal-2-1.png
ORGANIZER;CN="Solar United Neighbors":MAILTO:info@solarunitedneighbors.org
END:VEVENT
BEGIN:VEVENT
DTSTART;TZID=America/New_York:20220622T133000
DTEND;TZID=America/New_York:20220622T163000
DTSTAMP:20260423T051237
CREATED:20220524T204950Z
LAST-MODIFIED:20220616T192706Z
UID:9141-1655904600-1655915400@mcgreenbank.org
SUMMARY:Notice of June 22\, 2022 Board Meeting
DESCRIPTION:The Montgomery County Green Bank will be holding a Board of Directors Meeting on Wednesday\, June 22\, 2022\, 1:30-4:30 PM. The public is permitted to attend this meeting.  If you would like to be there\, please RSVP in advance to info@mcgreenbank.org. The meeting agenda can be found here.
URL:https://mcgreenbank.org/event/notice-of-june-22-2022-board-meeting/
LOCATION:Home Office\, 155 Gibbs Street\, Rockville\, MD\, 20874\, United States
CATEGORIES:Board Meetings
ATTACH;FMTTYPE=image/jpeg:https://mcgreenbank.org/wp-content/uploads/2021/12/board-meetings.jpg
END:VEVENT
END:VCALENDAR