BEGIN:VCALENDAR
VERSION:2.0
PRODID:-//Montgomery County Green Bank - ECPv6.15.20//NONSGML v1.0//EN
CALSCALE:GREGORIAN
METHOD:PUBLISH
X-ORIGINAL-URL:https://mcgreenbank.org
X-WR-CALDESC:Events for Montgomery County Green Bank
REFRESH-INTERVAL;VALUE=DURATION:PT1H
X-Robots-Tag:noindex
X-PUBLISHED-TTL:PT1H
BEGIN:VTIMEZONE
TZID:America/New_York
BEGIN:DAYLIGHT
TZOFFSETFROM:-0500
TZOFFSETTO:-0400
TZNAME:EDT
DTSTART:20210314T070000
END:DAYLIGHT
BEGIN:STANDARD
TZOFFSETFROM:-0400
TZOFFSETTO:-0500
TZNAME:EST
DTSTART:20211107T060000
END:STANDARD
BEGIN:DAYLIGHT
TZOFFSETFROM:-0500
TZOFFSETTO:-0400
TZNAME:EDT
DTSTART:20220313T070000
END:DAYLIGHT
BEGIN:STANDARD
TZOFFSETFROM:-0400
TZOFFSETTO:-0500
TZNAME:EST
DTSTART:20221106T060000
END:STANDARD
BEGIN:DAYLIGHT
TZOFFSETFROM:-0500
TZOFFSETTO:-0400
TZNAME:EDT
DTSTART:20230312T070000
END:DAYLIGHT
BEGIN:STANDARD
TZOFFSETFROM:-0400
TZOFFSETTO:-0500
TZNAME:EST
DTSTART:20231105T060000
END:STANDARD
END:VTIMEZONE
BEGIN:VEVENT
DTSTART;TZID=America/New_York:20220504T180000
DTEND;TZID=America/New_York:20220504T190000
DTSTAMP:20260423T064005
CREATED:20220407T151027Z
LAST-MODIFIED:20220524T131736Z
UID:8933-1651687200-1651690800@mcgreenbank.org
SUMMARY:Montgomery County BEPS and Opportunities for Contractors
DESCRIPTION:Join the Montgomery County Green Bank\, Department of Environmental Protection\, and DC’s Building Innovation Hub for our first post-pandemic\, in-person casual breakfast discussion about the newly passed Building Energy Performance Standards (BEPS) in Montgomery County\, MD. \nThe conversation will focus on potential opportunities for contractors through the new BEPS legislation. We will also review case studies from Washington DC\, where the BEPS law has already been in effect for several months. \nMontgomery County Green Bank will share some of the new upcoming programs to support contractors in this new endeavor toward a net-zero MoCo. \nWe look forward to meeting again in person.
URL:https://mcgreenbank.org/event/access-solar-info-session-2/
LOCATION:MD
CATEGORIES:Event,Webinar
ATTACH;FMTTYPE=image/jpeg:https://mcgreenbank.org/wp-content/uploads/2022/04/acess-solar-image.jpg
END:VEVENT
BEGIN:VEVENT
DTSTART;TZID=America/New_York:20220513T080000
DTEND;TZID=America/New_York:20220513T090000
DTSTAMP:20260423T064005
CREATED:20220422T140946Z
LAST-MODIFIED:20220504T195415Z
UID:9079-1652428800-1652432400@mcgreenbank.org
SUMMARY:Notice of May 13\, 2022 Special Board Meeting
DESCRIPTION:The Montgomery County Green Bank will be holding a Special Board of Directors Meeting on Friday\, May 13\, 2022\, 8:00-9:00 AM. The public is permitted to attend this meeting. If you would like to be there\, please RSVP in advance to info@mcgreenbank.org. View the meeting agenda.
URL:https://mcgreenbank.org/event/notice-of-may-13-2022-special-board-meeting/
LOCATION:Teleconference\, United States
CATEGORIES:Board Meetings
ATTACH;FMTTYPE=image/jpeg:https://mcgreenbank.org/wp-content/uploads/2021/12/board-meetings.jpg
END:VEVENT
END:VCALENDAR