BEGIN:VCALENDAR
VERSION:2.0
PRODID:-//Montgomery County Green Bank - ECPv6.15.14//NONSGML v1.0//EN
CALSCALE:GREGORIAN
METHOD:PUBLISH
X-ORIGINAL-URL:https://mcgreenbank.org
X-WR-CALDESC:Events for Montgomery County Green Bank
REFRESH-INTERVAL;VALUE=DURATION:PT1H
X-Robots-Tag:noindex
X-PUBLISHED-TTL:PT1H
BEGIN:VTIMEZONE
TZID:America/New_York
BEGIN:DAYLIGHT
TZOFFSETFROM:-0500
TZOFFSETTO:-0400
TZNAME:EDT
DTSTART:20250309T070000
END:DAYLIGHT
BEGIN:STANDARD
TZOFFSETFROM:-0400
TZOFFSETTO:-0500
TZNAME:EST
DTSTART:20251102T060000
END:STANDARD
BEGIN:DAYLIGHT
TZOFFSETFROM:-0500
TZOFFSETTO:-0400
TZNAME:EDT
DTSTART:20260308T070000
END:DAYLIGHT
BEGIN:STANDARD
TZOFFSETFROM:-0400
TZOFFSETTO:-0500
TZNAME:EST
DTSTART:20261101T060000
END:STANDARD
BEGIN:DAYLIGHT
TZOFFSETFROM:-0500
TZOFFSETTO:-0400
TZNAME:EDT
DTSTART:20270314T070000
END:DAYLIGHT
BEGIN:STANDARD
TZOFFSETFROM:-0400
TZOFFSETTO:-0500
TZNAME:EST
DTSTART:20271107T060000
END:STANDARD
END:VTIMEZONE
BEGIN:VEVENT
DTSTART;TZID=America/New_York:20260512T183000
DTEND;TZID=America/New_York:20260512T203000
DTSTAMP:20260420T165542
CREATED:20260420T183537Z
LAST-MODIFIED:20260420T184426Z
UID:15101-1778610600-1778617800@mcgreenbank.org
SUMMARY:Housing Unlimited Welcome Home Celebration
DESCRIPTION:This special night is about celebrating Housing Unlimited’s progress\, hearing powerful stories from Housing Unlimited tenants\, and looking ahead to the impact they continue to make. Join us for an evening filled with inspiration\, connection\, and fun festivities!
URL:https://mcgreenbank.org/event/housing-unlimited-welcome-home-celebration-2/
LOCATION:Bethesda Country Club\, 7601 Bradley Boulevard\, Bethesda\,\, MD\, 20817\, United States
CATEGORIES:Celebration,Event,Networking
ORGANIZER;CN="Housing Unlimited":MAILTO:https://www.housingunlimited.org/
END:VEVENT
BEGIN:VEVENT
DTSTART;TZID=America/New_York:20260527T080000
DTEND;TZID=America/New_York:20260527T170000
DTSTAMP:20260420T165542
CREATED:20260319T205737Z
LAST-MODIFIED:20260319T205927Z
UID:14850-1779868800-1779901200@mcgreenbank.org
SUMMARY:East Coast Affordable Housing Summit
DESCRIPTION:Why You Can’t Miss this First-Time Conference\nInspired by our Bisnow’s BMAC East series\, our East Coast Affordable Housing Summit is a full-day event featuring 6+ panels discussing all aspects of affordable housing up to Boston down to Florida. From discussions on policy\, financing\, partnerships and public-private initiatives\, asset management\, construction\, development\, and design\, join Bisnow as we bring together top leaders across the industry to discuss the unique challenges and opportunities they see in their distinct missions to create accessible\, affordable housing for all. \n  \nWhat You’ll Learn:  \n\nHear how investors are structuring deals amid elevated interest rates and tighter debt\, layering LIHTC equity\, tax-exempt bonds\, soft debt\, and gap financing\, and repricing risk and returns while keeping projects feasible\nHow leaders are predicting the future of the 9% and 4% LIHTC programs\, particularly after recent changes made by the Trump administration\, as well as state-level allocation changes and competitiveness\, and potential expansions or reforms tied to affordability initiatives\nHow owners and developers are grappling with labor shortages and material volatility\, value engineering without compromising long-term durability\, and phasing projects or redesigning unit mixes to control costs\nHow operators are managing operating cost inflation (insurance\, utilities\, staffing)\, preserving affordability while maintaining quality and compliance\, and using technology and data to improve efficiency and resident outcomes\nThe success stories: How owners and developers are working with municipalities on zoning\, density\, and land contributions\, leveraging public land and incentives to unlock new supply\, and navigating local political dynamics and community opposition\nThe Missing Middle: How CRE experts are serving households earning 60–120% AMI who fall outside traditional subsidies\, blending affordable\, workforce\, and market-rate units\, and attracting broader capital sources while meeting community needs.\n\nWho You’ll Hear From: Top Owners\, Developers\, Investors\, Political Officials\, Foundations and Associations\, and Providers working to build and preserve affordable housing up and down the East Coast. \nWhy should you attend: \nBisnow events bring together the biggest power players in the industry to identify opportunities\, build your network\, and expand your business. With the largest audience of commercial real estate professionals in the world\, no one knows how to help your business more than us. \n  \nFor questions\, recommendations\, comments\, or press inquiries please email our Director of Production\, Elizabeth Baker at liz.baker@bisnow.com. To request disability-related accommodations\, please contact Sabrina.Cole@bisnow.com no later than seven business days prior to the event.
URL:https://mcgreenbank.org/event/east-coast-affordable-housing-summit/
LOCATION:Washington Hilton\, 1919 Connecticut Avenue\, N.W.\, Washington
CATEGORIES:Conference,Networking
END:VEVENT
BEGIN:VEVENT
DTSTART;TZID=America/New_York:20260915T080000
DTEND;TZID=America/New_York:20260916T170000
DTSTAMP:20260420T165542
CREATED:20260311T170447Z
LAST-MODIFIED:20260311T170447Z
UID:14804-1789459200-1789578000@mcgreenbank.org
SUMMARY:CHESSA Energize Summit
DESCRIPTION:For over 15 years\, the CHESSA Energize Summit (formerly Solar Focus) has been the premier gathering for solar and storage professionals in the Chesapeake Bay region. Hosted by CHESSA\, this annual conference brings together industry experts\, government officials\, and thought leaders to discuss key trends\, policy developments\, and the future of clean energy. \nThe CHESSA Energize Summit provides a platform for in-depth discussions on the evolving solar and storage landscape\, offering insights into market growth\, technology advancements\, and regulatory updates. The event fosters collaboration between businesses\, policymakers\, and advocates\, helping to shape the future of solar and energy storage in Maryland\, DC\, and Virginia. \nWhether you are an industry veteran or new to the field\, the CHESSA Energize Summit is an opportunity to stay informed\, connect with key stakeholders\, and engage with the region’s clean energy community.
URL:https://mcgreenbank.org/event/chessa-energize-summit/
LOCATION:OMNI hotel\, 212 Ridge Mcintire Rd\, Charlottesville\, VA\, 22903\, United States
CATEGORIES:Summit
ATTACH;FMTTYPE=image/webp:https://mcgreenbank.org/wp-content/uploads/2026/03/2026-Save-the-Date_final-banner-2048x750-1-scaled.webp
END:VEVENT
END:VCALENDAR