BEGIN:VCALENDAR
VERSION:2.0
PRODID:-//Montgomery County Green Bank - ECPv6.15.20//NONSGML v1.0//EN
CALSCALE:GREGORIAN
METHOD:PUBLISH
X-ORIGINAL-URL:https://mcgreenbank.org
X-WR-CALDESC:Events for Montgomery County Green Bank
REFRESH-INTERVAL;VALUE=DURATION:PT1H
X-Robots-Tag:noindex
X-PUBLISHED-TTL:PT1H
BEGIN:VTIMEZONE
TZID:America/New_York
BEGIN:DAYLIGHT
TZOFFSETFROM:-0500
TZOFFSETTO:-0400
TZNAME:EDT
DTSTART:20210314T070000
END:DAYLIGHT
BEGIN:STANDARD
TZOFFSETFROM:-0400
TZOFFSETTO:-0500
TZNAME:EST
DTSTART:20211107T060000
END:STANDARD
BEGIN:DAYLIGHT
TZOFFSETFROM:-0500
TZOFFSETTO:-0400
TZNAME:EDT
DTSTART:20220313T070000
END:DAYLIGHT
BEGIN:STANDARD
TZOFFSETFROM:-0400
TZOFFSETTO:-0500
TZNAME:EST
DTSTART:20221106T060000
END:STANDARD
BEGIN:DAYLIGHT
TZOFFSETFROM:-0500
TZOFFSETTO:-0400
TZNAME:EDT
DTSTART:20230312T070000
END:DAYLIGHT
BEGIN:STANDARD
TZOFFSETFROM:-0400
TZOFFSETTO:-0500
TZNAME:EST
DTSTART:20231105T060000
END:STANDARD
END:VTIMEZONE
BEGIN:VEVENT
DTSTART;TZID=America/New_York:20220319T100000
DTEND;TZID=America/New_York:20220319T160000
DTSTAMP:20260421T142759
CREATED:20220310T193004Z
LAST-MODIFIED:20220310T193004Z
UID:8621-1647684000-1647705600@mcgreenbank.org
SUMMARY:Go Electric
DESCRIPTION:Curious about electric leaf blowers and mowers? Interested in an electric car or solar panels for your property? Come to our Go Electric event and learn more!\n\nRecycle gas yard equipment and small appliances for free\nLearn about special March discounts and rebates on electric leaf blowers at ACE stores in Montgomery County\nCheck out a Ride On electric bus–bring the kids!\nEnjoy sustainable and plant-based food!\nBring your old lightbulbs and get up to 3 free LEDs\nTour electric cars in person and learn about car charging systems\nLearn about solar charging for your building and installation incentives\nSwitch from fossil fuels to sustainable electric sources and save $$\nCheck out County green energy initiatives\nAnd more!\n\nHomeowners\, property managers\, renters\, landscapers\, car enthusiasts\, and builders will all find something useful.\n$100-$200 rebates on electric leaf blowers for landscapers: \nAre you a landscaping business in Montgomery County? We have electric leaf blower rebates! Whether you’re a sole-proprietor or large company\, you can get $100 per electric leaf blower you buy (up to 2) if you APPLY HERE and agree to exchange a gas leaf blower for each rebate. \nhttps://mygreenmontgomery.org/2022/goelectric/
URL:https://mcgreenbank.org/event/go-electric/
LOCATION:Montgomery College\, North Campus Drive\, Rockville\, MD\, United States
CATEGORIES:Event
ATTACH;FMTTYPE=image/jpeg:https://mcgreenbank.org/wp-content/uploads/2022/02/GettyImages-1225394910.jpeg
END:VEVENT
END:VCALENDAR