BEGIN:VCALENDAR
VERSION:2.0
PRODID:-//Montgomery County Green Bank - ECPv6.15.20//NONSGML v1.0//EN
CALSCALE:GREGORIAN
METHOD:PUBLISH
X-ORIGINAL-URL:https://mcgreenbank.org
X-WR-CALDESC:Events for Montgomery County Green Bank
REFRESH-INTERVAL;VALUE=DURATION:PT1H
X-Robots-Tag:noindex
X-PUBLISHED-TTL:PT1H
BEGIN:VTIMEZONE
TZID:America/New_York
BEGIN:DAYLIGHT
TZOFFSETFROM:-0500
TZOFFSETTO:-0400
TZNAME:EDT
DTSTART:20230312T070000
END:DAYLIGHT
BEGIN:STANDARD
TZOFFSETFROM:-0400
TZOFFSETTO:-0500
TZNAME:EST
DTSTART:20231105T060000
END:STANDARD
BEGIN:DAYLIGHT
TZOFFSETFROM:-0500
TZOFFSETTO:-0400
TZNAME:EDT
DTSTART:20240310T070000
END:DAYLIGHT
BEGIN:STANDARD
TZOFFSETFROM:-0400
TZOFFSETTO:-0500
TZNAME:EST
DTSTART:20241103T060000
END:STANDARD
BEGIN:DAYLIGHT
TZOFFSETFROM:-0500
TZOFFSETTO:-0400
TZNAME:EDT
DTSTART:20250309T070000
END:DAYLIGHT
BEGIN:STANDARD
TZOFFSETFROM:-0400
TZOFFSETTO:-0500
TZNAME:EST
DTSTART:20251102T060000
END:STANDARD
END:VTIMEZONE
BEGIN:VEVENT
DTSTART;VALUE=DATE:20240124
DTEND;VALUE=DATE:20240128
DTSTAMP:20260422T015952
CREATED:20231128T210636Z
LAST-MODIFIED:20231128T210748Z
UID:11654-1706054400-1706399999@mcgreenbank.org
SUMMARY:Naturally Latinos Conference
DESCRIPTION:The 5th Naturally Latinos Conference is scheduled for Wednesday\, January 24th\, through Saturday\, January 27th. Themed “Pertenenciendo: Nuestras Raíces\, Nuestra Tierra (Belonging: Our Roots\, Our Earth)\,” this multi-media experience will provide virtual (Wednesday and Thursday) and in-person (Friday) dialogue\, presentations and performances focused on the needs and interests of the Washington\, DC region and even national and international Latine environmental professionals\, environmental justice advocates\, educators\, and nature enthusiasts. \nThe conference will also include a day of immersive outdoor nature experiences appropriate to the time of year. We are currently finalizing our dynamic speakers and panelists and compelling performing artists\, including a keynote address by Vanessa GarcÍa Polanco\, a researcher and Government Relations Director at the National Young Farmers Coalition. An anticipated 400 attendees will leave Naturally Latinos 2024 inspired\, reinvigorated\, and connected to a growing community of people bringing about environmental change.
URL:https://mcgreenbank.org/event/naturally-latino-conference/
LOCATION:Silver Spring Civic Center\, 1 Veteran's Pl\, Silver Spring\, MD\, 20910\, United States
CATEGORIES:Conference,Event
ATTACH;FMTTYPE=image/png:https://mcgreenbank.org/wp-content/uploads/2023/11/naturally-latinos.png
END:VEVENT
BEGIN:VEVENT
DTSTART;TZID=America/New_York:20240125T160000
DTEND;TZID=America/New_York:20240125T180000
DTSTAMP:20260422T015952
CREATED:20240103T160027Z
LAST-MODIFIED:20240103T160027Z
UID:11729-1706198400-1706205600@mcgreenbank.org
SUMMARY:Market Series: Climate Risk Management for Community Banks: Opportunities & Challenges Ahead
DESCRIPTION:This Montgomery County Green Bank event is ideally suited for local and regional banks\, relationship managers\, credit risk officers\, loan officers\, and underwriters in the Washington DC region. Community Banks are exposed to climate-related risks through their lending portfolios. This session will bring critical information to local capital providers on: \n\nWhat are climate risks\, and what type of risks exist in community bank portfolios\nBenefits and challenges for local banks with identifying climate-related risks\nUnderstanding transmission channels\nDiscuss opportunities in climate risk management\n\nPanelists: \n\nChris Cucci\, Chief of Staff at Climate First Bank\nSteve Morel\, CEO at Montgomery County Green Bank\nStacy Swan\, CEO at Resilient Earth Capital and MCGB Board Member\nSonia Khanna\, Managing Director at Forbright Bank
URL:https://mcgreenbank.org/event/market-series-climate-risk-management-for-community-banks-opportunities-challenges-ahead/
LOCATION:Cohn Reznik\, 1301 Avenue Of The Americas\, New York\, NY\, 10019\, United States
CATEGORIES:Event,Market Series,Networking,Panel Discussion
ATTACH;FMTTYPE=image/png:https://mcgreenbank.org/wp-content/uploads/2024/01/Market-Series-8-1.png
END:VEVENT
END:VCALENDAR