BEGIN:VCALENDAR
VERSION:2.0
PRODID:-//Montgomery County Green Bank - ECPv6.15.20//NONSGML v1.0//EN
CALSCALE:GREGORIAN
METHOD:PUBLISH
X-ORIGINAL-URL:https://mcgreenbank.org
X-WR-CALDESC:Events for Montgomery County Green Bank
REFRESH-INTERVAL;VALUE=DURATION:PT1H
X-Robots-Tag:noindex
X-PUBLISHED-TTL:PT1H
BEGIN:VTIMEZONE
TZID:America/New_York
BEGIN:DAYLIGHT
TZOFFSETFROM:-0500
TZOFFSETTO:-0400
TZNAME:EDT
DTSTART:20220313T070000
END:DAYLIGHT
BEGIN:STANDARD
TZOFFSETFROM:-0400
TZOFFSETTO:-0500
TZNAME:EST
DTSTART:20221106T060000
END:STANDARD
BEGIN:DAYLIGHT
TZOFFSETFROM:-0500
TZOFFSETTO:-0400
TZNAME:EDT
DTSTART:20230312T070000
END:DAYLIGHT
BEGIN:STANDARD
TZOFFSETFROM:-0400
TZOFFSETTO:-0500
TZNAME:EST
DTSTART:20231105T060000
END:STANDARD
BEGIN:DAYLIGHT
TZOFFSETFROM:-0500
TZOFFSETTO:-0400
TZNAME:EDT
DTSTART:20240310T070000
END:DAYLIGHT
BEGIN:STANDARD
TZOFFSETFROM:-0400
TZOFFSETTO:-0500
TZNAME:EST
DTSTART:20241103T060000
END:STANDARD
END:VTIMEZONE
BEGIN:VEVENT
DTSTART;TZID=America/New_York:20230613T083000
DTEND;TZID=America/New_York:20230613T113000
DTSTAMP:20260422T143438
CREATED:20230524T155501Z
LAST-MODIFIED:20230524T155501Z
UID:10920-1686645000-1686655800@mcgreenbank.org
SUMMARY:Pepco Service Provider Breakfast
DESCRIPTION:Join Pepco and The Montgomery County Green Bank for a networking breakfast to connect with colleagues and Pepco program staff. This event presents a unique opportunity to connect with colleagues and engage with program staff from Pepco\, the Maryland Energy Administration (MEA)\, the Montgomery County Green Bank\, and the Maryland Department of Transportation.
URL:https://mcgreenbank.org/event/pepco-service-provider-breakfast/
LOCATION:Rockville\, MD\, 530 Gaither Road\, Rockville\, MD\, 20850\, United States
CATEGORIES:Event,Networking
END:VEVENT
END:VCALENDAR