BEGIN:VCALENDAR
VERSION:2.0
PRODID:-//Montgomery County Green Bank - ECPv6.15.14//NONSGML v1.0//EN
CALSCALE:GREGORIAN
METHOD:PUBLISH
X-ORIGINAL-URL:https://mcgreenbank.org
X-WR-CALDESC:Events for Montgomery County Green Bank
REFRESH-INTERVAL;VALUE=DURATION:PT1H
X-Robots-Tag:noindex
X-PUBLISHED-TTL:PT1H
BEGIN:VTIMEZONE
TZID:America/New_York
BEGIN:DAYLIGHT
TZOFFSETFROM:-0500
TZOFFSETTO:-0400
TZNAME:EDT
DTSTART:20230312T070000
END:DAYLIGHT
BEGIN:STANDARD
TZOFFSETFROM:-0400
TZOFFSETTO:-0500
TZNAME:EST
DTSTART:20231105T060000
END:STANDARD
BEGIN:DAYLIGHT
TZOFFSETFROM:-0500
TZOFFSETTO:-0400
TZNAME:EDT
DTSTART:20240310T070000
END:DAYLIGHT
BEGIN:STANDARD
TZOFFSETFROM:-0400
TZOFFSETTO:-0500
TZNAME:EST
DTSTART:20241103T060000
END:STANDARD
BEGIN:DAYLIGHT
TZOFFSETFROM:-0500
TZOFFSETTO:-0400
TZNAME:EDT
DTSTART:20250309T070000
END:DAYLIGHT
BEGIN:STANDARD
TZOFFSETFROM:-0400
TZOFFSETTO:-0500
TZNAME:EST
DTSTART:20251102T060000
END:STANDARD
END:VTIMEZONE
BEGIN:VEVENT
DTSTART;TZID=America/New_York:20240508T120000
DTEND;TZID=America/New_York:20240508T140000
DTSTAMP:20260421T115738
CREATED:20240411T225459Z
LAST-MODIFIED:20240411T225459Z
UID:12402-1715169600-1715176800@mcgreenbank.org
SUMMARY:Celebrating Multifamily Housing Decarbonization
DESCRIPTION:Join us as we celebrate the launch of a major electrification project and first privately operated resiliency hub in Montgomery County at an affordable rental property\, Hampshire Towers Apartments. Additionally\, information will be provided comparing Hampshire Towers Apartments to its sister building\, the Takoma Overlook Condominium\, which launched its own aggressive decarbonization project in recent years but followed a very different path. \nThis event will provide community members\, stakeholders\, and partner organizations who made these projects possible with an opportunity to celebrate an important moment in Montgomery County’s history. \nGuest speakers include: \n•MCGB CEO\, Stephen Morel \n•MCGB Board Chair\, Bonnie Norman \n•Takoma Park Mayor\, Talisha Searcy \n•Montgomery County Council Member\, Kate Stewart (Expected) \n•Takoma Overlook Representative \n•Hampshire Towers Representative \nA light lunch and refreshments will be provided. This is an outdoor event.
URL:https://mcgreenbank.org/event/celebrating-multifamily-housing-decarbonization/
LOCATION:7333 New Hampshire Avenue\, Hampshire Tower Apartments\, Takoma Park\, MD\, 20912\, United States
CATEGORIES:Celebration,Event
ATTACH;FMTTYPE=image/png:https://mcgreenbank.org/wp-content/uploads/2024/04/may-8th-event-flyer.png
END:VEVENT
BEGIN:VEVENT
DTSTART;TZID=America/New_York:20240515T080000
DTEND;TZID=America/New_York:20240517T170000
DTSTAMP:20260421T115738
CREATED:20240509T182743Z
LAST-MODIFIED:20240509T183155Z
UID:12503-1715760000-1715965200@mcgreenbank.org
SUMMARY:13th annual Building Resilience Conference
DESCRIPTION:Building Resilience Through Private-Public Partnerships Conference\nForging Trust Before\, During\, and After Disasters \n\n\n\n\nThe U.S. Chamber of Commerce Foundation will host its annual Building Resilience Conference on May 15-17\, 2024\, in Washington\, D.C. The event will bring together leaders dedicated to shaping the future of resilience through partnership and action\, held in collaboration with the Department of Homeland Security\, Cybersecurity and Infrastructure Security Agency\, Federal Emergency Management Agency\, National Oceanic and Atmospheric Administration\, Small Business Administration\, and U.S. Agency for International Development. \nOur Building Resilience Conference connects individuals from the highest levels of business\, government\, and nonprofits to share good ideas\, plan for the unexpected\, and solve problems together.
URL:https://mcgreenbank.org/event/13th-annual-building-resilience-conference/
LOCATION:U.S. Chamber of Commerce\, 1615 H St NW\, Washington DC\, DC\, 20062\, United States
CATEGORIES:Conference,Event
ATTACH;FMTTYPE=image/jpeg:https://mcgreenbank.org/wp-content/uploads/2024/05/reilence.jpeg
END:VEVENT
BEGIN:VEVENT
DTSTART;TZID=America/New_York:20240521T083000
DTEND;TZID=America/New_York:20240521T153000
DTSTAMP:20260421T115738
CREATED:20240513T161327Z
LAST-MODIFIED:20240513T161327Z
UID:12523-1716280200-1716305400@mcgreenbank.org
SUMMARY:Resilience Hub Workshop
DESCRIPTION:Resilience hubs are trusted gathering spaces that are enhanced to support and engage residents\, distribute resources\, and reduce carbon pollution while enhancing quality of life and assisting communities both during and after emergencies to minimize impacts and recover quickly. \nJoin us on Tuesday\, May 21\, 2024\, from 8:30 a.m. to 3:00 p.m. at the Silver Spring Civic Building for a dynamic\, participatory workshop to learn more about the underlying concepts and framework for building out effective resilience hubs. The workshop will include examples of what a great resilience hub looks like; an exercise to facilitate connections\, cooperation\, and brainstorming with partner agencies and organizations; a panel with local practitioners already working on resilience hubs; and discussions with experts on how to maneuver logistical and financial hurdles in the development of resilience hubs to benefit your community.
URL:https://mcgreenbank.org/event/resilience-hub-workshop/
LOCATION:Silver Spring Civic Building\, 1 VETERANS PL\, Silver Spring\, MD\, 20910\, United States
CATEGORIES:Event,Workshop
ATTACH;FMTTYPE=image/png:https://mcgreenbank.org/wp-content/uploads/2024/05/USDN-Resilience-Hub-Image1.png
END:VEVENT
END:VCALENDAR