BEGIN:VCALENDAR
VERSION:2.0
PRODID:-//Montgomery County Green Bank - ECPv6.15.20//NONSGML v1.0//EN
CALSCALE:GREGORIAN
METHOD:PUBLISH
X-ORIGINAL-URL:https://mcgreenbank.org
X-WR-CALDESC:Events for Montgomery County Green Bank
REFRESH-INTERVAL;VALUE=DURATION:PT1H
X-Robots-Tag:noindex
X-PUBLISHED-TTL:PT1H
BEGIN:VTIMEZONE
TZID:America/New_York
BEGIN:DAYLIGHT
TZOFFSETFROM:-0500
TZOFFSETTO:-0400
TZNAME:EDT
DTSTART:20220313T070000
END:DAYLIGHT
BEGIN:STANDARD
TZOFFSETFROM:-0400
TZOFFSETTO:-0500
TZNAME:EST
DTSTART:20221106T060000
END:STANDARD
BEGIN:DAYLIGHT
TZOFFSETFROM:-0500
TZOFFSETTO:-0400
TZNAME:EDT
DTSTART:20230312T070000
END:DAYLIGHT
BEGIN:STANDARD
TZOFFSETFROM:-0400
TZOFFSETTO:-0500
TZNAME:EST
DTSTART:20231105T060000
END:STANDARD
BEGIN:DAYLIGHT
TZOFFSETFROM:-0500
TZOFFSETTO:-0400
TZNAME:EDT
DTSTART:20240310T070000
END:DAYLIGHT
BEGIN:STANDARD
TZOFFSETFROM:-0400
TZOFFSETTO:-0500
TZNAME:EST
DTSTART:20241103T060000
END:STANDARD
END:VTIMEZONE
BEGIN:VEVENT
DTSTART;TZID=America/New_York:20231011T160000
DTEND;TZID=America/New_York:20231011T160000
DTSTAMP:20260422T051727
CREATED:20231003T212053Z
LAST-MODIFIED:20231003T212053Z
UID:11420-1697040000-1697040000@mcgreenbank.org
SUMMARY:LRS Warehouse Community Solar Celebration
DESCRIPTION:Join us for a ribbon-cutting event as we celebrate the launch of the newest community solar project in Montgomery County.  \nWe look forward to seeing you there!
URL:https://mcgreenbank.org/event/lrs-warehouse-community-solar-celebration/
LOCATION:Steward Ave Warehouses\, 2317 Kansas Ave\, Silver Spring\, MD\, 20910\, United States
CATEGORIES:Event,Networking
END:VEVENT
BEGIN:VEVENT
DTSTART;VALUE=DATE:20231015
DTEND;VALUE=DATE:20231019
DTSTAMP:20260422T051727
CREATED:20231004T170812Z
LAST-MODIFIED:20231004T174806Z
UID:11426-1697328000-1697673599@mcgreenbank.org
SUMMARY:Spread the Word - 2023 OFN Conference
DESCRIPTION:The OFN Conference is one of the largest\, most anticipated gatherings for community development financial institutions (CDFIs). \nFrom October 15-18\, more than 2\,000 CDFI practitioners\, funders\, and investors\, as well as policymakers and other CDFI stakeholders\, will gather in Washington\, D.C.\, to learn\, share\, and network. The theme of this year’s 39th annual conference is Capital Meets Purpose. \nAcross bold\, thought-provoking plenaries and deep dive sessions\, attendees will explore the industry’s founding purpose of investing capital for people and what it means today. We’ll look closely at important topics like climate finance\, economic uncertainty\, the future CDFI workforce\, post-pandemic capital deployment\, and racial\, social\, and economic justice. \nThis is a must-attend event for anyone who believes investment capital has a purpose far beyond profit.
URL:https://mcgreenbank.org/event/spread-the-word-2023-ofn-conference/
LOCATION:Washington Hilton\, 1919 Connecticut Avenue\, N.W.\, Washington
CATEGORIES:Conference,Event
ORGANIZER;CN="Opportunity Finance Network":MAILTO:info@ofn.org
END:VEVENT
BEGIN:VEVENT
DTSTART;TZID=America/New_York:20231017T080000
DTEND;TZID=America/New_York:20231017T170000
DTSTAMP:20260422T051727
CREATED:20231013T165835Z
LAST-MODIFIED:20231013T165835Z
UID:11449-1697529600-1697562000@mcgreenbank.org
SUMMARY:Maryland Clean Energy Summit
DESCRIPTION:Hosted by the Maryland Clean Energy Center (MCEC) and partners\, this regional conference brings together forward thinkers in policy and research\, business and utility sector leaders\, capital providers and finance partners for vibrant conversations and thought-provoking presentations focused on Decarbonization Strategies & Solutions for Maryland\, and beyond.
URL:https://mcgreenbank.org/event/maryland-clean-energy-summit/
LOCATION:College Park Marriott Hotel & Conference Center\, 3501 University Blvd East\, Hyattsville\, MD\, 20783\, United States
CATEGORIES:Conference,Event
ORGANIZER;CN="Maryland Clean Energy Center":MAILTO:info@mdcleanenergy.org
END:VEVENT
BEGIN:VEVENT
DTSTART;VALUE=DATE:20231018
DTEND;VALUE=DATE:20231021
DTSTAMP:20260422T051727
CREATED:20230809T200623Z
LAST-MODIFIED:20230809T200623Z
UID:11237-1697587200-1697846399@mcgreenbank.org
SUMMARY:CRE.Converge
DESCRIPTION:Industrial\, office\, mixed-use\, multifamily. Networking\, education\, project tours and special events. It all converges at NAIOP’s fall conference!
URL:https://mcgreenbank.org/event/cre-converge/
LOCATION:Hyatt Regency Seattle
CATEGORIES:Conference,Event
END:VEVENT
BEGIN:VEVENT
DTSTART;VALUE=DATE:20231024
DTEND;VALUE=DATE:20231027
DTSTAMP:20260422T051727
CREATED:20230809T195940Z
LAST-MODIFIED:20230809T200159Z
UID:11232-1698105600-1698364799@mcgreenbank.org
SUMMARY:Verge 23
DESCRIPTION:VERGE 23 is the leading climate tech event accelerating solutions to the most pressing challenges of our time. It is the center of gravity for the climate community — leaders from business\, government\, solution providers and startups — working together to address the climate crisis.
URL:https://mcgreenbank.org/event/verge-23/
LOCATION:San Jose Convention Center\, 150 W San Carlos St\, San Jose\, 95113\, United States
CATEGORIES:Conference,Event
END:VEVENT
BEGIN:VEVENT
DTSTART;TZID=America/New_York:20231028T140000
DTEND;TZID=America/New_York:20231028T160000
DTSTAMP:20260422T051727
CREATED:20231006T184651Z
LAST-MODIFIED:20231006T185159Z
UID:11437-1698501600-1698508800@mcgreenbank.org
SUMMARY:EV chargers at the Centre at Silver Springs
DESCRIPTION:You are invited to a Halloween EV charger party dubbed “Frunk or Treat.” \nCome and talk to EV owners about EV charging. You will also learn about ways to save energy and money at home and on your commute. \nLook out for the Halloween costumes\, spooky prizes\, and trick-or-treating for kids. \nFor more information\, Click here to view the flier.
URL:https://mcgreenbank.org/event/ev-chargers-at-the-centre-at-silver-springs/
LOCATION:Centre at Silver Spring\, 3310 teagarden cir #202\, Silver Spring\, MD\, 20904\, United States
CATEGORIES:Event,Networking
END:VEVENT
END:VCALENDAR