BEGIN:VCALENDAR
VERSION:2.0
PRODID:-//Montgomery County Green Bank - ECPv6.15.20//NONSGML v1.0//EN
CALSCALE:GREGORIAN
METHOD:PUBLISH
X-ORIGINAL-URL:https://mcgreenbank.org
X-WR-CALDESC:Events for Montgomery County Green Bank
REFRESH-INTERVAL;VALUE=DURATION:PT1H
X-Robots-Tag:noindex
X-PUBLISHED-TTL:PT1H
BEGIN:VTIMEZONE
TZID:America/New_York
BEGIN:DAYLIGHT
TZOFFSETFROM:-0500
TZOFFSETTO:-0400
TZNAME:EDT
DTSTART:20210314T070000
END:DAYLIGHT
BEGIN:STANDARD
TZOFFSETFROM:-0400
TZOFFSETTO:-0500
TZNAME:EST
DTSTART:20211107T060000
END:STANDARD
BEGIN:DAYLIGHT
TZOFFSETFROM:-0500
TZOFFSETTO:-0400
TZNAME:EDT
DTSTART:20220313T070000
END:DAYLIGHT
BEGIN:STANDARD
TZOFFSETFROM:-0400
TZOFFSETTO:-0500
TZNAME:EST
DTSTART:20221106T060000
END:STANDARD
BEGIN:DAYLIGHT
TZOFFSETFROM:-0500
TZOFFSETTO:-0400
TZNAME:EDT
DTSTART:20230312T070000
END:DAYLIGHT
BEGIN:STANDARD
TZOFFSETFROM:-0400
TZOFFSETTO:-0500
TZNAME:EST
DTSTART:20231105T060000
END:STANDARD
END:VTIMEZONE
BEGIN:VEVENT
DTSTART;TZID=America/New_York:20221103T100000
DTEND;TZID=America/New_York:20221103T110000
DTSTAMP:20260422T235231
CREATED:20221017T181957Z
LAST-MODIFIED:20221017T181957Z
UID:9887-1667469600-1667473200@mcgreenbank.org
SUMMARY:Commercial Solar Financing with the Inflation Reduction Act
DESCRIPTION:Join the Montgomery County Green Bank on zoom for a panel style discussion on commercial solar financing with the Inflation Reduction Act. We will discuss how commercial financing has changed with the new incentives available and what trends we are seeing in commercial solar financing. \nThere will be ample opportunity for question and answer among solar installers\, capital providers\, and developers. Panelists include Aurora Energy\, Amalgamated Bank\, and Skyview Ventures.
URL:https://mcgreenbank.org/event/commercial-solar-financing-with-the-inflation-reduction-act/
LOCATION:Teleconference\, United States
CATEGORIES:Contractor Breakfast,Event,Webinar
END:VEVENT
BEGIN:VEVENT
DTSTART;TZID=America/New_York:20221115T160000
DTEND;TZID=America/New_York:20221115T180000
DTSTAMP:20260422T235231
CREATED:20221207T180448Z
LAST-MODIFIED:20221207T180448Z
UID:10208-1668528000-1668535200@mcgreenbank.org
SUMMARY:Inflation Reduction Act and Opportunities for Affordable Housing
DESCRIPTION:Join CohnReznick and Montgomery County Green Bank for a casual in-person discussion about the Inflation Reduction Act and opportunities for Affordable Housing Developers. We invite you for a brief networking reception immediately following the panel. \nAffordable and low-income housing advocates are celebrating the historic passage of the Inflation Reduction Act (IRA). While the new law explicitly addresses LIHTC to a very minimal extent\, its provisions can have profound impacts and positive benefits for LIHTC projects\, owners and investors. Those in community development lending are particularly encouraged by the 15% book tax\, environmental justice investments and funding to increase clean energy\, energy efficiency and energy storage resources.
URL:https://mcgreenbank.org/event/inflation-reduction-act-and-opportunities-for-affordable-housing/
LOCATION:Cohn Reznik\, 1301 Avenue Of The Americas\, New York\, NY\, 10019\, United States
CATEGORIES:Event
END:VEVENT
BEGIN:VEVENT
DTSTART;TZID=America/New_York:20221117T083000
DTEND;TZID=America/New_York:20221117T100000
DTSTAMP:20260422T235231
CREATED:20221207T153803Z
LAST-MODIFIED:20221207T153803Z
UID:10198-1668673800-1668679200@mcgreenbank.org
SUMMARY:C-PACE Market Update
DESCRIPTION:Join the regional C-PACE administrators for a casual breakfast and regional C-PACE market update sponsored by the Forbright Bank. \nCommercial property assessed clean energy (C-PACE) is a tool that can finance energy efficiency and renewable energy improvements on commercial property. Come meet the regional C-PACE administrators and learn what each jurisdiction has to offer.
URL:https://mcgreenbank.org/event/c-pace-market-update/
LOCATION:Forbright Bank\, 4445 Willard Avenue\, 11th Floor\, Chevy Chase\, MD\, 20815\, United States
CATEGORIES:Event
END:VEVENT
END:VCALENDAR