BEGIN:VCALENDAR
VERSION:2.0
PRODID:-//Montgomery County Green Bank - ECPv6.15.20//NONSGML v1.0//EN
CALSCALE:GREGORIAN
METHOD:PUBLISH
X-ORIGINAL-URL:https://mcgreenbank.org
X-WR-CALDESC:Events for Montgomery County Green Bank
REFRESH-INTERVAL;VALUE=DURATION:PT1H
X-Robots-Tag:noindex
X-PUBLISHED-TTL:PT1H
BEGIN:VTIMEZONE
TZID:America/New_York
BEGIN:DAYLIGHT
TZOFFSETFROM:-0500
TZOFFSETTO:-0400
TZNAME:EDT
DTSTART:20210314T070000
END:DAYLIGHT
BEGIN:STANDARD
TZOFFSETFROM:-0400
TZOFFSETTO:-0500
TZNAME:EST
DTSTART:20211107T060000
END:STANDARD
BEGIN:DAYLIGHT
TZOFFSETFROM:-0500
TZOFFSETTO:-0400
TZNAME:EDT
DTSTART:20220313T070000
END:DAYLIGHT
BEGIN:STANDARD
TZOFFSETFROM:-0400
TZOFFSETTO:-0500
TZNAME:EST
DTSTART:20221106T060000
END:STANDARD
BEGIN:DAYLIGHT
TZOFFSETFROM:-0500
TZOFFSETTO:-0400
TZNAME:EDT
DTSTART:20230312T070000
END:DAYLIGHT
BEGIN:STANDARD
TZOFFSETFROM:-0400
TZOFFSETTO:-0500
TZNAME:EST
DTSTART:20231105T060000
END:STANDARD
END:VTIMEZONE
BEGIN:VEVENT
DTSTART;TZID=America/New_York:20220727T083000
DTEND;TZID=America/New_York:20220727T100000
DTSTAMP:20260423T071933
CREATED:20220627T162638Z
LAST-MODIFIED:20220713T202300Z
UID:9338-1658910600-1658916000@mcgreenbank.org
SUMMARY:Montgomery County Solar Opportunities in Affordable Housing
DESCRIPTION:Join the Montgomery County Green Bank and Forbright Bank for our second post-pandemic\, in-person casual breakfast discussion on commercial solar opportunities in the affordable housing market. \nThere will be ample opportunity for networking among solar installers\, capital providers\, and developers. We will hear case study reviews from City First Enterprises\, Lumina Solar\, and Maryland Energy Administration. \nWe look forward to meeting again in person. \nRegistration is required. Register here.
URL:https://mcgreenbank.org/event/montgomery-county-solar-opportunities-in-affordable-housing/
LOCATION:Visarts Building\, 155 Gibbs Street\, Rockville\, MD\, 20874\, United States
CATEGORIES:Event
ATTACH;FMTTYPE=image/jpeg:https://mcgreenbank.org/wp-content/uploads/2022/02/solar-install-1600.jpg
END:VEVENT
END:VCALENDAR