BEGIN:VCALENDAR
VERSION:2.0
PRODID:-//Montgomery County Green Bank - ECPv6.15.20//NONSGML v1.0//EN
CALSCALE:GREGORIAN
METHOD:PUBLISH
X-ORIGINAL-URL:https://mcgreenbank.org
X-WR-CALDESC:Events for Montgomery County Green Bank
REFRESH-INTERVAL;VALUE=DURATION:PT1H
X-Robots-Tag:noindex
X-PUBLISHED-TTL:PT1H
BEGIN:VTIMEZONE
TZID:America/New_York
BEGIN:DAYLIGHT
TZOFFSETFROM:-0500
TZOFFSETTO:-0400
TZNAME:EDT
DTSTART:20220313T070000
END:DAYLIGHT
BEGIN:STANDARD
TZOFFSETFROM:-0400
TZOFFSETTO:-0500
TZNAME:EST
DTSTART:20221106T060000
END:STANDARD
BEGIN:DAYLIGHT
TZOFFSETFROM:-0500
TZOFFSETTO:-0400
TZNAME:EDT
DTSTART:20230312T070000
END:DAYLIGHT
BEGIN:STANDARD
TZOFFSETFROM:-0400
TZOFFSETTO:-0500
TZNAME:EST
DTSTART:20231105T060000
END:STANDARD
BEGIN:DAYLIGHT
TZOFFSETFROM:-0500
TZOFFSETTO:-0400
TZNAME:EDT
DTSTART:20240310T070000
END:DAYLIGHT
BEGIN:STANDARD
TZOFFSETFROM:-0400
TZOFFSETTO:-0500
TZNAME:EST
DTSTART:20241103T060000
END:STANDARD
END:VTIMEZONE
BEGIN:VEVENT
DTSTART;TZID=America/New_York:20231109T083000
DTEND;TZID=America/New_York:20231109T103000
DTSTAMP:20260423T160526
CREATED:20231103T172311Z
LAST-MODIFIED:20231103T172311Z
UID:11532-1699518600-1699525800@mcgreenbank.org
SUMMARY:Chesapeake Champions Interfaith Breakfast
DESCRIPTION:The Chesapeake’s Champions Interfaith Breakfast is modeled after the National Prayer Breakfast and the first of its kind in the Chesapeake region\, this event will magnify the collective voice of the faith community\, activate them with a call to action\, and foster collaboration with decision-makers. \nExpected guests will be Powerhouse speakers\, movers and shakers in Maryland legislation\, and diverse faith leaders. \nKeynote speakers include Delegate Regina Boyce\, Renee Cooper from US Wind (presenting sponsor of the event)\, Senator Benjamin Brooks; and Assistant Secretary of the Maryland Department Natural Resources\, Kristen Fidler.
URL:https://mcgreenbank.org/event/chesapeake-champions-interfaith-breakfast/
LOCATION:Pearlstone Retreat Center and Outdoor Education Campus\, 5425 Mount Gilead Rd\, Reisterstown\,\, MD\, 21226\, United States
CATEGORIES:Breakfast,Contractor Breakfast
ATTACH;FMTTYPE=image/png:https://mcgreenbank.org/wp-content/uploads/2023/11/INTERFAITH-BREAKFAST.png
END:VEVENT
END:VCALENDAR