BEGIN:VCALENDAR
VERSION:2.0
PRODID:-//Montgomery County Green Bank - ECPv6.15.20//NONSGML v1.0//EN
CALSCALE:GREGORIAN
METHOD:PUBLISH
X-ORIGINAL-URL:https://mcgreenbank.org
X-WR-CALDESC:Events for Montgomery County Green Bank
REFRESH-INTERVAL;VALUE=DURATION:PT1H
X-Robots-Tag:noindex
X-PUBLISHED-TTL:PT1H
BEGIN:VTIMEZONE
TZID:America/New_York
BEGIN:DAYLIGHT
TZOFFSETFROM:-0500
TZOFFSETTO:-0400
TZNAME:EDT
DTSTART:20250309T070000
END:DAYLIGHT
BEGIN:STANDARD
TZOFFSETFROM:-0400
TZOFFSETTO:-0500
TZNAME:EST
DTSTART:20251102T060000
END:STANDARD
BEGIN:DAYLIGHT
TZOFFSETFROM:-0500
TZOFFSETTO:-0400
TZNAME:EDT
DTSTART:20260308T070000
END:DAYLIGHT
BEGIN:STANDARD
TZOFFSETFROM:-0400
TZOFFSETTO:-0500
TZNAME:EST
DTSTART:20261101T060000
END:STANDARD
BEGIN:DAYLIGHT
TZOFFSETFROM:-0500
TZOFFSETTO:-0400
TZNAME:EDT
DTSTART:20270314T070000
END:DAYLIGHT
BEGIN:STANDARD
TZOFFSETFROM:-0400
TZOFFSETTO:-0500
TZNAME:EST
DTSTART:20271107T060000
END:STANDARD
END:VTIMEZONE
BEGIN:VEVENT
DTSTART;TZID=America/New_York:20260423T083000
DTEND;TZID=America/New_York:20260423T103000
DTSTAMP:20260423T013136
CREATED:20260409T195834Z
LAST-MODIFIED:20260409T195834Z
UID:15002-1776933000-1776940200@mcgreenbank.org
SUMMARY:From Plans to Action: Implementing Climate Solutions Across the DMV
DESCRIPTION:Cities and counties across the DMV were among the nation’s early leaders in developing comprehensive climate action plans. Today\, the region is entering a far more complex—and consequential—phase: turning those plans into real-world results. \n​This ICF Climate Center breakfast convenes senior climate leaders from the District of Columbia\, Fairfax County\, and Montgomery County for a candid conversation about what it takes to move from ambition to implementation. Panelists will reflect on lessons learned from the planning process\, share early insights from implementation\, and discuss how local governments are navigating funding constraints\, stakeholder engagement\, and rapidly evolving tools as they advance decarbonization and climate resilience on the ground. \n​The session will combine a moderated panel with an interactive roundtable\, giving participants the opportunity to engage directly with peers and practitioners shaping the region’s climate future. \nRegister to see the event address: https://luma.com/fcfx8idp
URL:https://mcgreenbank.org/event/from-plans-to-action-implementing-climate-solutions-across-the-dmv/
LOCATION:Washington\, DC
CATEGORIES:Event,Panel Discussion
END:VEVENT
BEGIN:VEVENT
DTSTART;TZID=America/New_York:20260423T170000
DTEND;TZID=America/New_York:20260423T190000
DTSTAMP:20260423T013136
CREATED:20260413T135141Z
LAST-MODIFIED:20260413T135141Z
UID:15032-1776963600-1776970800@mcgreenbank.org
SUMMARY:Climate Capital Connections: A Climate Finance Networking Event
DESCRIPTION:About Event\n\n\n\n​Connect with leaders in philanthropy\, climate finance\, and clean energy who are working to accelerate climate solutions nationwide. Partnerships are driving investment\, strengthening communities\, and building a more resilient climate and clean energy future. \n​Join Justice Climate Fund and Amalgamated Bank for a networking event centered on conversation and connection. \nPlease register to see the exact location of this event.
URL:https://mcgreenbank.org/event/climate-capital-connections-a-climate-finance-networking-event/
LOCATION:Washington\, DC
CATEGORIES:Event,Networking
END:VEVENT
END:VCALENDAR