BEGIN:VCALENDAR
VERSION:2.0
PRODID:-//Montgomery County Green Bank - ECPv6.15.14//NONSGML v1.0//EN
CALSCALE:GREGORIAN
METHOD:PUBLISH
X-ORIGINAL-URL:https://mcgreenbank.org
X-WR-CALDESC:Events for Montgomery County Green Bank
REFRESH-INTERVAL;VALUE=DURATION:PT1H
X-Robots-Tag:noindex
X-PUBLISHED-TTL:PT1H
BEGIN:VTIMEZONE
TZID:America/New_York
BEGIN:DAYLIGHT
TZOFFSETFROM:-0500
TZOFFSETTO:-0400
TZNAME:EDT
DTSTART:20240310T070000
END:DAYLIGHT
BEGIN:STANDARD
TZOFFSETFROM:-0400
TZOFFSETTO:-0500
TZNAME:EST
DTSTART:20241103T060000
END:STANDARD
BEGIN:DAYLIGHT
TZOFFSETFROM:-0500
TZOFFSETTO:-0400
TZNAME:EDT
DTSTART:20250309T070000
END:DAYLIGHT
BEGIN:STANDARD
TZOFFSETFROM:-0400
TZOFFSETTO:-0500
TZNAME:EST
DTSTART:20251102T060000
END:STANDARD
BEGIN:DAYLIGHT
TZOFFSETFROM:-0500
TZOFFSETTO:-0400
TZNAME:EDT
DTSTART:20260308T070000
END:DAYLIGHT
BEGIN:STANDARD
TZOFFSETFROM:-0400
TZOFFSETTO:-0500
TZNAME:EST
DTSTART:20261101T060000
END:STANDARD
END:VTIMEZONE
BEGIN:VEVENT
DTSTART;TZID=America/New_York:20251216T093000
DTEND;TZID=America/New_York:20251216T153000
DTSTAMP:20260420T103615
CREATED:20251202T182527Z
LAST-MODIFIED:20251208T193757Z
UID:14566-1765877400-1765899000@mcgreenbank.org
SUMMARY:Regional Food Aggregation & Distribution Summit
DESCRIPTION:The COG FARM Committee’s DMV Food Council Collaborative and Regional Agricultural Workgroup invite you to participate in the Second Annual Regional Food Aggregation and Distribution Summit:  Advancing Institutional Sourcing of Regionally Grown Foods. Please note this event is in-person only. \nThis summit has been designed for attendees to leave with new cross-sector connections\, actionable strategies\, and practical tools to advance values-based procurement. Ultimately\, we seek to strengthen our region’s capacity to source and distribute locally grown foods effectively by fostering a more coordinated aggregation and distribution network\, reducing the duplication of efforts\, and encouraging the adoption of innovative\, scalable models. \nFor more information please contact: Lindsay Smith\, lsmith@mwcog.org\, (202)962-3307
URL:https://mcgreenbank.org/event/regional-food-aggregation-distribution-summit/
LOCATION:The Reservoir center for Water Solutions\, 301 Water St. SE\, Washington DC\, DC\, 20003\, United States
CATEGORIES:Networking,Panel Discussion,Summit,Workshop
ATTACH;FMTTYPE=image/png:https://mcgreenbank.org/wp-content/uploads/2025/12/2025-regional-food-aggregation-and-distribution.png
END:VEVENT
BEGIN:VEVENT
DTSTART;TZID=America/New_York:20251216T140000
DTEND;TZID=America/New_York:20251216T150000
DTSTAMP:20260420T103615
CREATED:20251112T213759Z
LAST-MODIFIED:20251114T194614Z
UID:14548-1765893600-1765897200@mcgreenbank.org
SUMMARY:FEOC: Are We Ready for 2026?
DESCRIPTION:FEOC or Foreign Entities of Concern\, is a term referring to companies linked to or controlled by China\, Russia\, Iran\, and North Korea. These FEOC rules\, particularly those from the Inflation Reduction Act and One Big Beautiful Bill Act (OBBBA)\, are designed to reduce reliance on these nations in clean energy supply chains and can disqualify solar PV projects from receiving federal tax credits and incentives. \nThis webinar will bring four experts from the solar industry together to discuss how ready each segment of the industry is to comply with FEOC and what we need to do to get compliant if we are not there yet (spoiler alert -we’re not there yet). \nSpeakers: \n\nJessica Pitts\, Flywheel Development\, Co-Owner\nHumza Arshad\, Greentech Renewables\, Branch Manager\nLisa Walsh\, Solar Energy Services\, Commercial Sale Manager\nPamela Charles\, David Wright Tremaine\, Partner\, Chair of Tax Practice
URL:https://mcgreenbank.org/event/feoc-are-we-ready-for-2026/
LOCATION:Webinar
CATEGORIES:Webinar
END:VEVENT
END:VCALENDAR