BEGIN:VCALENDAR
VERSION:2.0
PRODID:-//Montgomery County Green Bank - ECPv6.15.20//NONSGML v1.0//EN
CALSCALE:GREGORIAN
METHOD:PUBLISH
X-ORIGINAL-URL:https://mcgreenbank.org
X-WR-CALDESC:Events for Montgomery County Green Bank
REFRESH-INTERVAL;VALUE=DURATION:PT1H
X-Robots-Tag:noindex
X-PUBLISHED-TTL:PT1H
BEGIN:VTIMEZONE
TZID:America/New_York
BEGIN:DAYLIGHT
TZOFFSETFROM:-0500
TZOFFSETTO:-0400
TZNAME:EDT
DTSTART:20230312T070000
END:DAYLIGHT
BEGIN:STANDARD
TZOFFSETFROM:-0400
TZOFFSETTO:-0500
TZNAME:EST
DTSTART:20231105T060000
END:STANDARD
BEGIN:DAYLIGHT
TZOFFSETFROM:-0500
TZOFFSETTO:-0400
TZNAME:EDT
DTSTART:20240310T070000
END:DAYLIGHT
BEGIN:STANDARD
TZOFFSETFROM:-0400
TZOFFSETTO:-0500
TZNAME:EST
DTSTART:20241103T060000
END:STANDARD
BEGIN:DAYLIGHT
TZOFFSETFROM:-0500
TZOFFSETTO:-0400
TZNAME:EDT
DTSTART:20250309T070000
END:DAYLIGHT
BEGIN:STANDARD
TZOFFSETFROM:-0400
TZOFFSETTO:-0500
TZNAME:EST
DTSTART:20251102T060000
END:STANDARD
END:VTIMEZONE
BEGIN:VEVENT
DTSTART;TZID=America/New_York:20240422T080000
DTEND;TZID=America/New_York:20240424T170000
DTSTAMP:20260421T173053
CREATED:20240223T191904Z
LAST-MODIFIED:20240306T191222Z
UID:12160-1713772800-1713978000@mcgreenbank.org
SUMMARY:Innovations in Climate Resilience
DESCRIPTION:ICR24’s mission is to bring together the world’s brightest minds to solve the greatest challenge of our time. \nThis year’s theme “Solutions For Scaling Change”\, captures the urgency and the growing need for innovations at scale to meet the monumental task of addressing climate change. The focus areas of the conference include empowering action for rapid carbon neutrality\, investing in climate resilient infrastructure\, systems to fortify our future and advancing sustainability solutions for the next generation. \nJoin the community working to create a brighter\, more climate resilient future. Share your climate innovations during our curated technical program featuring an opening session\, platform talks\, breakout sessions and an evening poster session.
URL:https://mcgreenbank.org/event/innovations-in-climate-resilience/
LOCATION:Ronald Reagan Building and International Trade Center\, 1300 Pennsylvania Avenue NW\, Washington\, DC\, 20004\, United States
CATEGORIES:Event,Networking
END:VEVENT
BEGIN:VEVENT
DTSTART;TZID=America/New_York:20240424T133000
DTEND;TZID=America/New_York:20240424T163000
DTSTAMP:20260421T173053
CREATED:20230707T180408Z
LAST-MODIFIED:20240403T123053Z
UID:11077-1713965400-1713976200@mcgreenbank.org
SUMMARY:Notice of April 24\, 2024 Virtual Board Meeting
DESCRIPTION:The Montgomery County Green Bank will be holding a Virtual Board of Directors Meeting on Wednesday\, April 24th\, 2024\, 1:30-4:30 PM. The public is permitted to attend this meeting.  If you would like to be there\, please RSVP in advance to info@mcgreenbank.org.  Please find the agenda link attached here.
URL:https://mcgreenbank.org/event/notice-of-april-24-2024-virtual-board-meeting/
LOCATION:Teleconference\, United States
CATEGORIES:Board Meetings
ATTACH;FMTTYPE=image/jpeg:https://mcgreenbank.org/wp-content/uploads/2021/12/board-meetings.jpg
END:VEVENT
END:VCALENDAR