BEGIN:VCALENDAR
VERSION:2.0
PRODID:-//Montgomery County Green Bank - ECPv6.15.20//NONSGML v1.0//EN
CALSCALE:GREGORIAN
METHOD:PUBLISH
X-ORIGINAL-URL:https://mcgreenbank.org
X-WR-CALDESC:Events for Montgomery County Green Bank
REFRESH-INTERVAL;VALUE=DURATION:PT1H
X-Robots-Tag:noindex
X-PUBLISHED-TTL:PT1H
BEGIN:VTIMEZONE
TZID:America/New_York
BEGIN:DAYLIGHT
TZOFFSETFROM:-0500
TZOFFSETTO:-0400
TZNAME:EDT
DTSTART:20230312T070000
END:DAYLIGHT
BEGIN:STANDARD
TZOFFSETFROM:-0400
TZOFFSETTO:-0500
TZNAME:EST
DTSTART:20231105T060000
END:STANDARD
BEGIN:DAYLIGHT
TZOFFSETFROM:-0500
TZOFFSETTO:-0400
TZNAME:EDT
DTSTART:20240310T070000
END:DAYLIGHT
BEGIN:STANDARD
TZOFFSETFROM:-0400
TZOFFSETTO:-0500
TZNAME:EST
DTSTART:20241103T060000
END:STANDARD
BEGIN:DAYLIGHT
TZOFFSETFROM:-0500
TZOFFSETTO:-0400
TZNAME:EDT
DTSTART:20250309T070000
END:DAYLIGHT
BEGIN:STANDARD
TZOFFSETFROM:-0400
TZOFFSETTO:-0500
TZNAME:EST
DTSTART:20251102T060000
END:STANDARD
END:VTIMEZONE
BEGIN:VEVENT
DTSTART;TZID=America/New_York:20240313T080000
DTEND;TZID=America/New_York:20240313T090000
DTSTAMP:20260421T203928
CREATED:20240226T203050Z
LAST-MODIFIED:20240226T203050Z
UID:12208-1710316800-1710320400@mcgreenbank.org
SUMMARY:Notice of March 13\, 2024 Special Virtual Board Meeting
DESCRIPTION:The Montgomery County Green Bank will be holding a Special Board of Directors Meeting on Wednesday\, March 13\, 2024\, 8:00-9:00 AM. The public is permitted to attend this meeting. If you would like to be there\, please RSVP in advance to info@mcgreenbank.org.
URL:https://mcgreenbank.org/event/notice-of-march-13-2024-special-virtual-board-meeting/
LOCATION:Teleconference\, United States
CATEGORIES:Board Meetings
ATTACH;FMTTYPE=image/jpeg:https://mcgreenbank.org/wp-content/uploads/2021/12/board-meetings.jpg
END:VEVENT
BEGIN:VEVENT
DTSTART;TZID=America/New_York:20240313T183000
DTEND;TZID=America/New_York:20240313T200000
DTSTAMP:20260421T203928
CREATED:20240214T203315Z
LAST-MODIFIED:20240214T203315Z
UID:12041-1710354600-1710360000@mcgreenbank.org
SUMMARY:Leadership Solves – Climate Change
DESCRIPTION:Make a difference in your community! Learn how you can use your leadership to contribute to positive change. Hear from subject matter experts on advocacy\, agricultural sustainability and funding possibilities for environmental progress; and network with like minded individuals who share a passion for a sustainable future. \nThis is YOUR chance to get involved post-graduation. \nThis event is free and open to all engaged alumni of LM. \n 
URL:https://mcgreenbank.org/event/leadership-solves-climate-change/
LOCATION:Leadership Montgomery\, 6010 Executive Boulevard\, Suite 200\, Rockville\, MD\, 20852\, United States
CATEGORIES:Event,Forum,Market Series,Panel Discussion
END:VEVENT
END:VCALENDAR