BEGIN:VCALENDAR
VERSION:2.0
PRODID:-//Montgomery County Green Bank - ECPv6.15.20//NONSGML v1.0//EN
CALSCALE:GREGORIAN
METHOD:PUBLISH
X-ORIGINAL-URL:https://mcgreenbank.org
X-WR-CALDESC:Events for Montgomery County Green Bank
REFRESH-INTERVAL;VALUE=DURATION:PT1H
X-Robots-Tag:noindex
X-PUBLISHED-TTL:PT1H
BEGIN:VTIMEZONE
TZID:America/New_York
BEGIN:DAYLIGHT
TZOFFSETFROM:-0500
TZOFFSETTO:-0400
TZNAME:EDT
DTSTART:20210314T070000
END:DAYLIGHT
BEGIN:STANDARD
TZOFFSETFROM:-0400
TZOFFSETTO:-0500
TZNAME:EST
DTSTART:20211107T060000
END:STANDARD
BEGIN:DAYLIGHT
TZOFFSETFROM:-0500
TZOFFSETTO:-0400
TZNAME:EDT
DTSTART:20220313T070000
END:DAYLIGHT
BEGIN:STANDARD
TZOFFSETFROM:-0400
TZOFFSETTO:-0500
TZNAME:EST
DTSTART:20221106T060000
END:STANDARD
BEGIN:DAYLIGHT
TZOFFSETFROM:-0500
TZOFFSETTO:-0400
TZNAME:EDT
DTSTART:20230312T070000
END:DAYLIGHT
BEGIN:STANDARD
TZOFFSETFROM:-0400
TZOFFSETTO:-0500
TZNAME:EST
DTSTART:20231105T060000
END:STANDARD
END:VTIMEZONE
BEGIN:VEVENT
DTSTART;TZID=America/New_York:20220607T083000
DTEND;TZID=America/New_York:20220607T093000
DTSTAMP:20260423T064054
CREATED:20220524T132049Z
LAST-MODIFIED:20220524T204514Z
UID:9129-1654590600-1654594200@mcgreenbank.org
SUMMARY:Montgomery County BEPS and Opportunities for Contractors
DESCRIPTION:Join the Montgomery County Green Bank\, Department of Environmental Protection\, and DC’s Building Innovation Hub for our first post-pandemic\, in-person casual breakfast discussion about the newly passed Building Energy Performace Standards (BEPS) in Montgomery County\, MD. \nThe conversation will focus on potential opportunities for contractors through the new BEPS legislation. We will also review case studies from Washington DC\, where the BEPS law has already been in effect for several months. \nMontgomery County Green Bank will share some of the new upcoming programs to support contractors in this new endeavor toward a net-zero MoCo. \nWe look forward to meeting again in person. \nRegistration is required. Register here.
URL:https://mcgreenbank.org/event/montgomery-county-beps-and-opportunities-for-contractors/
LOCATION:The Jewish Federation of Greater Washington\, 6101 Executive Boulevard #100\, North Bethesda\, MD\, 20852\, United States
CATEGORIES:Event
ATTACH;FMTTYPE=image/png:https://mcgreenbank.org/wp-content/uploads/2022/04/Untitled-design-4.png
END:VEVENT
END:VCALENDAR