BEGIN:VCALENDAR
VERSION:2.0
PRODID:-//Montgomery County Green Bank - ECPv6.15.20//NONSGML v1.0//EN
CALSCALE:GREGORIAN
METHOD:PUBLISH
X-ORIGINAL-URL:https://mcgreenbank.org
X-WR-CALDESC:Events for Montgomery County Green Bank
REFRESH-INTERVAL;VALUE=DURATION:PT1H
X-Robots-Tag:noindex
X-PUBLISHED-TTL:PT1H
BEGIN:VTIMEZONE
TZID:America/New_York
BEGIN:DAYLIGHT
TZOFFSETFROM:-0500
TZOFFSETTO:-0400
TZNAME:EDT
DTSTART:20210314T070000
END:DAYLIGHT
BEGIN:STANDARD
TZOFFSETFROM:-0400
TZOFFSETTO:-0500
TZNAME:EST
DTSTART:20211107T060000
END:STANDARD
BEGIN:DAYLIGHT
TZOFFSETFROM:-0500
TZOFFSETTO:-0400
TZNAME:EDT
DTSTART:20220313T070000
END:DAYLIGHT
BEGIN:STANDARD
TZOFFSETFROM:-0400
TZOFFSETTO:-0500
TZNAME:EST
DTSTART:20221106T060000
END:STANDARD
BEGIN:DAYLIGHT
TZOFFSETFROM:-0500
TZOFFSETTO:-0400
TZNAME:EDT
DTSTART:20230312T070000
END:DAYLIGHT
BEGIN:STANDARD
TZOFFSETFROM:-0400
TZOFFSETTO:-0500
TZNAME:EST
DTSTART:20231105T060000
END:STANDARD
END:VTIMEZONE
BEGIN:VEVENT
DTSTART;TZID=America/New_York:20220325T100000
DTEND;TZID=America/New_York:20220325T170000
DTSTAMP:20260423T105255
CREATED:20220125T155335Z
LAST-MODIFIED:20220310T194654Z
UID:7815-1648202400-1648227600@mcgreenbank.org
SUMMARY:Audubon Naturalist Society’s 4th Naturally Latinos Conference
DESCRIPTION:The conference will run approximately 11 am – 3 pm ET Tuesday – Thursday online\, and 10 am – 5 pm ET on Friday at the Silver Spring Civic Center (Silver Spring\, MD) and online. \nFor those attending fully remotely\, content from the in-person day will be livestreamed through Whova as indicated on the conference agenda. Saturday outdoor experiences will take place at 10 am ET in the Washington\, DC area.\nYou must purchase a “Hybrid” ticket to have access to the Friday & Saturday in-person activities.\nPlease visit the link to purchase tickets: \nhttps://anshome.org/naturally-latinos-2022/ \nBilingual English Spanish interpretation available throughout the conference.
URL:https://mcgreenbank.org/event/meet-clean-energy-credit-union/
LOCATION:Silver Spring Civic Building\, 1 VETERANS PL\, Silver Spring\, MD\, 20910\, United States
CATEGORIES:Event,Webinar
ATTACH;FMTTYPE=image/jpeg:https://mcgreenbank.org/wp-content/uploads/2022/02/GettyImages-1225394910.jpeg
END:VEVENT
END:VCALENDAR